Workbook
Name _10_0\LA: [1]내역서!#REF!
Name _15_0\MID: [1]내역서!#REF!
Name _20_0\SM: [1]내역서!#REF!
Name _25_0ME: [1]내역서!#REF!
Name _30_0ME: [1]내역서!#REF!
Name _35_3_0Crite: #REF!
Name _40_3_0Criteria: #REF!
Name _45G_0Extr: #REF!
Name _5_0: [2]예가표!#REF!
Name _50G_0Extract: #REF!
Name RR: #REF!
Name 공내역: #REF!
Name 공종보기: [15]!공종보기
Name 기기: #REF!
Name ㄴㅇㄹ: [2]예가표!#REF!
Name 노임집계: IF(#REF!=직종4,"F",IF(#REF!=직종5,"G",IF(#REF!=직종6,"H",IF(#REF!=직종7,"I",IF(#REF!=직종8,"J","오류")))))
Name 데이터: OFFSET(#REF!,,,COUNTA(#REF!)-1,9)
Name ㅁㄴㄹ: [1]내역서!#REF!
Name 성명: OFFSET(#REF!,,,COUNTA(#REF!)-1)
Name 정정: #REF!
Name 직종1: #REF!
Name 직종2: #REF!
Name 직종3: #REF!
Name 직종4: #REF!
Name 직종5: #REF!
Name 직종6: #REF!
Name 직종7: #REF!
Name 직종8: #REF!
Name 청천200: #REF!

Sheet 공종별내역서
A1: [ 과학센터 옥상 구조물 보수 공사 ]
A2: 품 명 | B2: 규 격 | C2: 단위 | D2: 수량 | E2: 재 료 비 | G2: 노 무 비 | I2: 경 비 | K2: 합 계 | M2: 재 료 비 | O2: 노 무 비 | Q2: 경 비 | S2: 합 계 | U2: 비 고 | V2: 품목코드 | W2: 변수 | X2: 설정 | Y2: 공종코드 | Z2: 일위 | AA2: 단산 | AB2: 자재 | AC2: 손료적용 | AD2: 손료저장 | AE2: 적용율 | AF2: JUK1 | AG2: JUK2 | AH2: JUK3 | AI2: JUK4 | AJ2: JUK5 | AK2: JUK6 | AL2: JUK7 | AM2: JUK8 | AN2: JUK9 | AO2: JUK10 | AP2: JUK11 | AQ2: JUK12 | AR2: JUK13 | AS2: JUK14 | AT2: JUK15 | AU2: JUK16 | AV2: JUK17 | AW2: JUK18 | AX2: JUK19 | AY2: JUK20 | AZ2: 자재구분 | BA2: 공종구분 | BB2: 공종레벨 | BC2: 공종+자재 | BD2: 고유번호
E3: 단 가 | F3: 금 액 | G3: 단 가 | H3: 금 액 | I3: 단 가 | J3: 금 액 | K3: 단 가 | L3: 금 액 | M3: 단 가 | N3: 금 액 | O3: 단 가 | P3: 금 액 | Q3: 단 가 | R3: 금 액 | S3: 단 가 | T3: 금 액
A4: 01. 방수공사 | M4: =TRUNC([33]일위대가목록!E4,0) -> 0 | N4: =TRUNC(M4*D4,0) -> 0 | O4: =TRUNC([33]일위대가목록!F4,0) -> 4938 | P4: =TRUNC(O4*D4,0) -> 0 | Q4: =TRUNC([33]일위대가목록!G4,0) -> 0 | R4: =TRUNC(Q4*D4,0) -> 0 | S4: =TRUNC(M4+O4+Q4,0) -> 4938 | T4: =TRUNC(N4+P4+R4,0) -> 0 | V4: 5E39A488D1687C3D83B6DFE55EC01C | Y4: 0104 | Z4: T | AA4: F | AB4: F | BC4: 01045E39A488D1687C3D83B6DFE55EC01C | BD4: 65
A5: 복합판넬연결부보수 | B5: 아크릴+부직포 | C5: 식 | D5: 1 | M5: =TRUNC([33]단가대비표!O5,0) -> 0 | N5: =TRUNC(M5*D5,0) -> 0 | O5: =TRUNC([33]단가대비표!P5,0) -> 0 | P5: =TRUNC(O5*D5,0) -> 0 | Q5: =TRUNC([33]단가대비표!V5,0) -> 550000 | R5: =TRUNC(Q5*D5,0) -> 550000 | S5: =TRUNC(M5+O5+Q5,0) -> 550000 | T5: =TRUNC(N5+P5+R5,0) -> 550000 | V5: 591C344181652DE18A6226655C542FDC259C36 | Y5: 0104 | Z5: F | AA5: F | AB5: T | BC5: 0104591C344181652DE18A6226655C542FDC259C36 | BD5: 35
A6: 상부파손부보수보강 | B6: PE/PR시트 | C6: 식 | D6: 1 | M6: =[33]일위대가목록!E6 -> 9063.9 | N6: =M6*D6 -> 9063.9 | O6: =[33]일위대가목록!F6 -> 44299 | P6: =O6*D6 -> 44299 | Q6: =[33]일위대가목록!G6 -> 54110.8 | R6: =Q6*D6 -> 54110.8 | S6: =TRUNC(M6+O6+Q6,0) -> 107473 | T6: =TRUNC(N6+P6+R6,0) -> 107473
A7: 수용성복합방수 | B7: 바닥 | C7: ㎡ | D7: 216 | M7: =[33]일위대가목록!E5 -> 31695 | N7: =TRUNC(M7*D7,0) -> 6846120 | O7: =[33]일위대가목록!F5 -> 26977.6 | P7: =TRUNC(O7*D7,0) -> 5827161 | Q7: =[33]일위대가목록!G5 -> 0 | R7: =TRUNC(Q7*D7,0) -> 0 | S7: =[33]일위대가목록!H5 -> 58672.6 | T7: =TRUNC(N7+P7+R7,0) -> 12673281 | V7: 5F25145C3169D3CC8AC4190B5AC9F69878B73C | Y7: 0104 | Z7: F | AA7: F | AB7: T | BC7: 01045F25145C3169D3CC8AC4190B5AC9F69878B73C | BD7: 57
M8: =[33]일위대가목록!E7 -> 5205.6 | N8: =TRUNC(M8*D8,0) -> 0 | O8: =[33]일위대가목록!F7 -> 4696 | P8: =TRUNC(O8*D8,0) -> 0 | Q8: =[33]일위대가목록!G7 -> 0 | R8: =TRUNC(Q8*D8,0) -> 0 | S8: =[33]일위대가목록!H7 -> 9901.6 | T8: =TRUNC(N8+P8+R8,0) -> 0
A20: [ 합 계 ] | F20: =F5+F6+F7 -> 0 | H20: =H5+H6+H7 -> 0 | L20: =H20+F20 -> 0 | N20: =SUM(N4:N19) -> 6855183.9 | P20: =SUM(P4:P19) -> 5871460 | R20: =SUM(R4:R19) -> 604110.8 | T20: =SUM(T4:T19) -> 13330754 | V20: TOTAL
