Workbook

Sheet 원가계산서
A1: 공 사 원 가 계 산 서
A2: 공사명 : 이노프라자 외벽 판넬 구조 보강 공사
A3: 구 분 비 목 | D3: 구 성 비 | E3: 금 액 | F3: 비 고
A5: 순 공 사 원 가 | B5: 재료비 | C5: 직 접 재 료 비 | E5: =집계표!E22 -> 0 | G5: A1 | H5: 0 | I5: =E5 -> 0
C6: 간 접 재 료 비 | E6: =ROUNDDOWN(E5*H6, 0) -> 0 | G6: A2 | H6: 0 | I6: =E6 -> 0
C7: 작업설.부산물 등(△) | G7: A3 | H7: 0 | I7: =E7 -> 0
C8: 소 계 | E8: =SUM(E5:E6)-ABS(E7) -> 0 | G8: A | H8: 0 | I8: =E8 -> 0
B9: 노무비 | C9: 직 접 노 무 비 | E9: =ROUNDDOWN(집계표!G22, 0) -> 0 | G9: B1 | H9: 0 | I9: =E9 -> 0
C10: 간 접 노 무 비 | D10: ="직.노*"&H10*100&"%" -> 직.노*15% | E10: =ROUNDDOWN(E9*H10, 0) -> 0 | G10: B2 | H10: 0.15 | I10: =E10 -> 0
C11: 소 계 | E11: =SUM(E9:E10) -> 0 | G11: B | H11: 0 | I11: =E11 -> 0
B12: 경 비 | C12: 기 계 경 비 | E12: =ROUNDDOWN(집계표!I22, 0) -> 0 | G12: C4 | H12: 0 | I12: =E12 -> 0
C13: 산 재 보 험 료 | D13: ="(노)*"&H13*100&"%" -> (노)*3.56% | E13: =ROUNDDOWN((E11)*H13, 0) -> 0 | G13: C10 | H13: 0.0356 | I13: =E13 -> 0
C14: 고 용 보 험 료 | D14: ="(노)*"&H14*100&"%" -> (노)*1.01% | E14: =ROUNDDOWN((E11)*H14, 0) -> 0 | G14: C11 | H14: 0.0101 | I14: =E14 -> 0
C15: 건 강 보 험 료 | E15: =ROUNDDOWN((E9)*H15, 0) -> 0 | G15: C12 | H15: 0 | I15: =E15 -> 0
C16: 연 금 보 험 료 | E16: =ROUNDDOWN((E9)*H16, 0) -> 0 | G16: C13 | H16: 0 | I16: =E16 -> 0
C17: 노인 장기 요양보험료 | E17: =ROUNDDOWN((E15)*H17, 0) -> 0 | G17: C14 | H17: 0 | I17: =E17 -> 0
C18: 퇴 직 공 제 부 금 비 | E18: =ROUNDDOWN((E9)*H18, 0) -> 0 | G18: C15 | H18: 0 | I18: =E18 -> 0
C19: 산업 안전 보건관리비 | G19: C16 | H19: 0 | I19: =E19 -> 0
C20: 기 타 경 비 | D20: ="(재+노)*"&H20*100&"%" -> (재+노)*4.6% | E20: =ROUNDDOWN((E8+E11)*H20, 0) -> 0 | G20: C20 | H20: 0.046 | I20: =E20 -> 0
C21: 환 경 보 전 비 | E21: =ROUNDDOWN((E8+E9+E12)*H21, 0) -> 0 | G21: C25 | H21: 0 | I21: =E21 -> 0
C22: 건설하도급보증수수료 | E22: =ROUNDDOWN((E8+E9+E12)*H22, 0) -> 0 | G22: C30 | H22: 0 | I22: =E22 -> 0
C23: 공사 이행 보증수수료 | E23: =ROUNDDOWN((E8+E9+E12)*H23*(1/12), 0) -> 0 | G23: C31 | H23: 0 | I23: =E23 -> 0
C24: 건설기계대여보증수수료 | E24: =ROUNDDOWN((E8+E9+E12)*H24, 0) -> 0 | G24: C32 | H24: 0 | I24: =E24 -> 0
C25: 안 전 관 리 비 | G25: C17 | H25: 0 | I25: =E25 -> 0
C26: 품 질 관 리 비 | G26: C18 | H26: 0 | I26: =E26 -> 0
C27: 소 계 | E27: =SUM(E12:E26) -> 0 | G27: C | H27: 0 | I27: =E27 -> 0
B28: 계 | E28: =E8+E11+E27 -> 0 | G28: X | H28: 0 | I28: =E28 -> 0
A29: 일 반 관 리 비 | D29: ="(재+노+경)*"&H29*100&"%" -> (재+노+경)*6% | E29: =ROUNDDOWN((E8+E11+E27)*H29, 0) -> 0 | G29: D | H29: 0.06 | I29: =E29 -> 0
A30: 이 윤 | D30: ="(노+경+일)*"&H30*100&"%" -> (노+경+일)*15% | E30: =E31-E29-E28 -> 0 | G30: E | H30: 0.15 | I30: =(I11+I27+I29)*H30+909 -> 909
A31: 총 원 가 | E31: =ROUNDDOWN(E33-E32, 0) -> 0 | G31: F | H31: 0 | I31: =SUM(I28:I30) -> 909
A32: 부 가 가 치 세 | D32: ="(총원가)*"&H32*100&"%" -> (총원가)*10% | E32: =ROUNDDOWN(((E33)/110)*10, 0) -> 0 | G32: H | H32: 0.1 | I32: =ROUNDDOWN((I31)*H32, 0) -> 90
A33: 도 급 금 액 | E33: =INT(I33/1000)*1000 -> 0 | G33: Y | H33: 0 | I33: =I31+I32 -> 999
A34: 관 급 자 재 대 | G34: J | H34: 0 | I34: =E34 -> 0
A35: 사 급 자 재 대 | G35: K | H35: 0 | I35: =E35 -> 0
A36: 폐 기 물 처 리 비 | G36: L | H36: 0 | I36: =E36 -> 0
A37: 총 공 사 금 액 | E37: =ROUNDDOWN(E33+E34+E35+E36, 0) -> 0 | H37: 0 | I37: =I33+I34+I35+I36 -> 999

Sheet 집계표
A1: 공 사 집 계 표
A2: 공사명 : 이노프라자 외벽 판넬 구조 보강 공사
A3: 품 명 | B3: 단위 | C3: 수량 | D3: 재 료 비 | F3: 노 무 비 | H3: 경 비 | J3: 합 계 | L3: 비고
D4: 단 가 | E4: 금 액 | F4: 단 가 | G4: 금 액 | H4: 단 가 | I4: 금 액 | J4: 단 가 | K4: 금 액 | M4: 손료요율 | N4: 손료구분 | O4: 적용구분 | P4: 합계구분 | Q4: 기계경비 | R4: 운반비 | S4: 작업부산물 | T4: 관급 | U4: 외주비 | V4: 장비비 | W4: 폐기물처리비 | X4: 가설비 | Y4: 잡비제외분 | Z4: 사급자재대 | AA4: 관급자재대 | AB4: 사용자항목1 | AC4: 사용자항목2 | AD4: 안전관리비 | AE4: 품질관리비 | AF4: 사용자항목5 | AG4: 사용자항목6 | AH4: 사용자항목7 | AI4: 사용자항목8 | AJ4: 사용자항목9 | AK4: 사용자항목10 | AL4: 사용자항목11 | AM4: 사용자항목12 | AN4: 사용자항목13 | AO4: 사용자항목14 | AP4: 사용자항목15 | AQ4: 사용자항목16 | AR4: 사용자항목17 | AS4: 사용자항목18 | AT4: 사용자항목19 | AU4: 간접재료비 | AV4: 품목구분 | AW4: 조달코드
A5: =내역서!A5 -> 01. 외벽 판넬 구조보강공사 | B5: 식 | C5: 1 | D5: =내역서!F22 -> 0 | E5: =C5*D5 -> 0 | F5: =내역서!H22 -> 0 | G5: =C5*F5 -> 0 | H5: =내역서!J22 -> 0 | I5: =C5*H5 -> 0 | J5: =D5+F5+H5 -> 0 | K5: =E5+G5+I5 -> 0 | P5: 1 | Q5: =C5*내역서!R22 -> 0 | R5: =C5*내역서!S22 -> 0 | S5: =C5*내역서!T22 -> 0 | T5: =C5*내역서!U22 -> 0 | U5: =C5*내역서!V22 -> 0 | V5: =C5*내역서!W22 -> 0 | W5: =C5*내역서!X22 -> 0 | X5: =C5*내역서!Y22 -> 0 | Y5: =C5*내역서!Z22 -> 0 | Z5: =C5*내역서!AA22 -> 0 | AA5: =C5*내역서!AB22 -> 0 | AB5: =C5*내역서!AC22 -> 0 | AC5: =C5*내역서!AD22 -> 0 | AD5: =C5*내역서!AE22 -> 0 | AE5: =C5*내역서!AF22 -> 0 | AF5: =C5*내역서!AG22 -> 0 | AG5: =C5*내역서!AH22 -> 0 | AH5: =C5*내역서!AI22 -> 0 | AI5: =C5*내역서!AJ22 -> 0 | AJ5: =C5*내역서!AK22 -> 0 | AK5: =C5*내역서!AL22 -> 0 | AL5: =C5*내역서!AM22 -> 0 | AM5: =C5*내역서!AN22 -> 0 | AN5: =C5*내역서!AO22 -> 0 | AO5: =C5*내역서!AP22 -> 0 | AP5: =C5*내역서!AQ22 -> 0 | AQ5: =C5*내역서!AR22 -> 0 | AR5: =C5*내역서!AS22 -> 0 | AS5: =C5*내역서!AT22 -> 0 | AT5: =C5*내역서!AU22 -> 0 | AU5: =C5*내역서!AV22 -> 0
P6: 1 | Q6: =C6*내역서!#REF! -> #REF! | R6: =C6*내역서!#REF! -> #REF! | S6: =C6*내역서!#REF! -> #REF! | T6: =C6*내역서!#REF! -> #REF! | U6: =C6*내역서!#REF! -> #REF! | V6: =C6*내역서!#REF! -> #REF! | W6: =C6*내역서!#REF! -> #REF! | X6: =C6*내역서!#REF! -> #REF! | Y6: =C6*내역서!#REF! -> #REF! | Z6: =C6*내역서!#REF! -> #REF! | AA6: =C6*내역서!#REF! -> #REF! | AB6: =C6*내역서!#REF! -> #REF! | AC6: =C6*내역서!#REF! -> #REF! | AD6: =C6*내역서!#REF! -> #REF! | AE6: =C6*내역서!#REF! -> #REF! | AF6: =C6*내역서!#REF! -> #REF! | AG6: =C6*내역서!#REF! -> #REF! | AH6: =C6*내역서!#REF! -> #REF! | AI6: =C6*내역서!#REF! -> #REF! | AJ6: =C6*내역서!#REF! -> #REF! | AK6: =C6*내역서!#REF! -> #REF! | AL6: =C6*내역서!#REF! -> #REF! | AM6: =C6*내역서!#REF! -> #REF! | AN6: =C6*내역서!#REF! -> #REF! | AO6: =C6*내역서!#REF! -> #REF! | AP6: =C6*내역서!#REF! -> #REF! | AQ6: =C6*내역서!#REF! -> #REF! | AR6: =C6*내역서!#REF! -> #REF! | AS6: =C6*내역서!#REF! -> #REF! | AT6: =C6*내역서!#REF! -> #REF! | AU6: =C6*내역서!#REF! -> #REF!
A22: 합 계 | E22: =SUMIF(P5:P8, "1", E5:E8) -> 0 | G22: =SUMIF(P5:P8, "1", G5:G8) -> 0 | I22: =SUMIF(P5:P8, "1", I5:I8) -> 0 | K22: =E22+G22+I22 -> 0 | Q22: =SUM(Q5:Q8) -> #REF! | R22: =SUM(R5:R8) -> #REF! | S22: =SUM(S5:S8) -> #REF! | T22: =SUM(T5:T8) -> #REF! | U22: =SUM(U5:U8) -> #REF! | V22: =SUM(V5:V8) -> #REF! | W22: =SUM(W5:W8) -> #REF! | X22: =SUM(X5:X8) -> #REF! | ... AW22: =SUM(AW5:AW8) -> 0

Sheet 내역서
A1: 공 사 내 역 서
A2: 공사명 : 이노프라자 외벽 판넬 구조 보강 공사
A3: 품 명 | B3: 규 격 | C3: 단위 | D3: 수 량 | E3: 재 료 비 | G3: 노 무 비 | I3: 경 비 | K3: 합 계 | M3: 비고
E4: 단 가 | F4: 금 액 | G4: 단 가 | H4: 금 액 | I4: 단 가 | J4: 금 액 | K4: 단 가 | L4: 금 액 | N4: 손료요율 | O4: 손료구분 | P4: 적용구분 | Q4: 합계구분 | R4: 기계경비 | S4: 운반비 | T4: 작업부산물 | U4: 관급 | V4: 외주비 | W4: 장비비 | X4: 폐기물처리비 | Y4: 가설비 | Z4: 잡비제외분 | AA4: 사급자재대 | AB4: 관급자재대 | AC4: 사용자항목1 | AD4: 사용자항목2 | AE4: 안전관리비 | AF4: 품질관리비 | AG4: 사용자항목5 | AH4: 사용자항목6 | AI4: 사용자항목7 | AJ4: 사용자항목8 | AK4: 사용자항목9 | AL4: 사용자항목10 | AM4: 사용자항목11 | AN4: 사용자항목12 | AO4: 사용자항목13 | AP4: 사용자항목14 | AQ4: 사용자항목15 | AR4: 사용자항목16 | AS4: 사용자항목17 | AT4: 사용자항목18 | AU4: 사용자항목19 | AV4: 간접재료비 | AW4: 품목구분 | AX4: 조달코드 | AZ4: 0.92995
A5: 01. 외벽 판넬 구조보강공사
A6: 각파이프 | B6: 100*50*2.3 | C6: 본 | D6: 16 | O6: ="" | P6: 기계경비 | Q6: 1 | R6: =IF(P6="기계경비", J6, 0) -> 0 | S6: =IF(P6="운반비", J6, 0) -> 0 | T6: =IF(P6="작업부산물", F6, 0) -> 0 | U6: =IF(P6="관급", F6, 0) -> 0 | V6: =IF(P6="외주비", J6, 0) -> 0 | W6: =IF(P6="장비비", J6, 0) -> 0 | X6: =IF(P6="폐기물처리비", J6, 0) -> 0 | Y6: =IF(P6="가설비", J6, 0) -> 0 | Z6: =IF(P6="잡비제외분", F6, 0) -> 0 | AA6: =IF(P6="사급자재대", L6, 0) -> 0 | AB6: =IF(P6="관급자재대", L6, 0) -> 0 | AC6: =IF(P6="사용자항목1", L6, 0) -> 0 | AD6: =IF(P6="사용자항목2", L6, 0) -> 0 | AE6: =IF(P6="안전관리비", L6, 0) -> 0 | AF6: =IF(P6="품질관리비", L6, 0) -> 0 | AG6: =IF(P6="사용자항목5", L6, 0) -> 0 | AH6: =IF(P6="사용자항목6", L6, 0) -> 0 | AI6: =IF(P6="사용자항목7", L6, 0) -> 0 | AJ6: =IF(P6="사용자항목8", L6, 0) -> 0 | AK6: =IF(P6="사용자항목9", L6, 0) -> 0 | AL6: =IF(P6="사용자항목10", L6, 0) -> 0 | AM6: =IF(P6="사용자항목11", L6, 0) -> 0 | AN6: =IF(P6="사용자항목12", L6, 0) -> 0 | AO6: =IF(P6="사용자항목13", L6, 0) -> 0 | AP6: =IF(P6="사용자항목14", L6, 0) -> 0 | AQ6: =IF(P6="사용자항목15", L6, 0) -> 0 | AR6: =IF(P6="사용자항목16", L6, 0) -> 0 | AS6: =IF(P6="사용자항목17", L6, 0) -> 0 | AT6: =IF(P6="사용자항목18", L6, 0) -> 0 | AU6: =IF(P6="사용자항목19", L6, 0) -> 0 | AZ6: 0 | BA6: 4138 | BB6: 0
A7: 각파이프 | B7: 50*50*2.3 | C7: 본 | D7: 16 | Q7: 1
A8: 후레싱 | C8: 식 | D8: 8 | Q8: 1
A9: 베이스플레이트 | C9: EA | D9: 36 | Q9: 1
A10: 화스너 | C10: 식 | D10: 8 | Q10: 1
A11: 기타부자재 | B11: 5톤,1일 | C11: 삭 | D11: 8 | Q11: 1
A12: 고소작업대임대료(스카이) | B12: 5톤,1일 | C12: 대 | D12: 1.5 | Q12: 1
Q13: 1
E14: =TRUNC($AZ$4*AZ14,0) -> 0 | G14: =TRUNC($AZ$4*BA14,0) -> 0 | I14: =TRUNC($AZ$4*BB14,0) -> 0 | Q14: 1
E15: =TRUNC($AZ$4*AZ15,0) -> 0 | G15: =TRUNC($AZ$4*BA15,0) -> 0 | I15: =TRUNC($AZ$4*BB15,0) -> 0
E16: =TRUNC($AZ$4*AZ16,0) -> 0 | G16: =TRUNC($AZ$4*BA16,0) -> 0 | I16: =TRUNC($AZ$4*BB16,0) -> 0
E17: =TRUNC($AZ$4*AZ17,0) -> 0 | G17: =TRUNC($AZ$4*BA17,0) -> 0 | I17: =TRUNC($AZ$4*BB17,0) -> 0
E18: =TRUNC($AZ$4*AZ18,0) -> 0 | G18: =TRUNC($AZ$4*BA18,0) -> 0 | I18: =TRUNC($AZ$4*BB18,0) -> 0
E19: =TRUNC($AZ$4*AZ19,0) -> 0 | G19: =TRUNC($AZ$4*BA19,0) -> 0 | I19: =TRUNC($AZ$4*BB19,0) -> 0
E20: =TRUNC($AZ$4*AZ20,0) -> 0 | G20: =TRUNC($AZ$4*BA20,0) -> 0 | I20: =TRUNC($AZ$4*BB20,0) -> 0
E21: =TRUNC($AZ$4*AZ21,0) -> 0 | G21: =TRUNC($AZ$4*BA21,0) -> 0 | I21: =TRUNC($AZ$4*BB21,0) -> 0
A22: 합 계 | E22: =TRUNC($AZ$4*AZ22,0) -> 0 | F22: =SUM(F6:F21) -> 0 | H22: =SUM(H6:H21) -> 0 | I22: =SUM(I6:I21) -> 0 | J22: =SUM(J6:J21) -> 0 | L22: =SUM(L6:L21) -> 0 | R22: =ROUNDDOWN(SUM(R6:R6), 0) -> 0 | S22: =ROUNDDOWN(SUM(S6:S6), 0) -> 0 | T22: =ROUNDDOWN(SUM(T6:T6), 0) -> 0 | U22: =ROUNDDOWN(SUM(U6:U6), 0) -> 0 | V22: =ROUNDDOWN(SUM(V6:V6), 0) -> 0 | W22: =ROUNDDOWN(SUM(W6:W6), 0) -> 0 | X22: =ROUNDDOWN(SUM(X6:X6), 0) -> 0 | Y22: =ROUNDDOWN(SUM(Y6:Y6), 0) -> 0 | ... AX22: =ROUNDDOWN(SUM(AX6:AX6), 0) -> 0
