Workbook

Sheet 갑지
A3: 과장 | C3: 담당 | E3: 검산자 | G3: 설계자 | I3: 2024년 7월 설계

Sheet 원가계산서
A1: 공 사 원 가 계 산 서
A2: 공사명 : 전략반도체특화 실증랩 전시공간
A3: 구 분 비 목 | D3: 구 성 비 | E3: 금 액 | F3: 비 고
A5: 순 공 사 원 가 | B5: 재료비 | C5: 직 접 재 료 비 | E5: =ROUNDDOWN(집계표!E20-집계표!AU20, 0) -> 12694407 | G5: A1 | H5: 0 | I5: =E5 -> 12694407
C6: 간 접 재 료 비 | E6: =ROUNDDOWN(E5*H6, 0) -> 0 | G6: A2 | H6: 0 | I6: =E6 -> 0
C7: 작업설.부산물 등(△) | E7: =집계표!S20 -> 0 | G7: A3 | H7: 0 | I7: =E7 -> 0
C8: 소 계 | E8: =SUM(E5:E6)-ABS(E7) -> 12694407 | G8: A | H8: 0 | I8: =E8 -> 12694407
B9: 노무비 | C9: 직 접 노 무 비 | E9: =ROUNDDOWN(집계표!G20, 0) -> 2276072 | G9: B1 | H9: 0 | I9: =E9 -> 2276072
C10: 간 접 노 무 비 | D10: ="직.노*"&H10*100&"%" -> 직.노*12.2% | E10: =ROUNDDOWN(E9*H10, 0) -> 277680 | G10: B2 | H10: 0.122 | I10: =E10 -> 277680
C11: 소 계 | E11: =SUM(E9:E10) -> 2553752 | G11: B | H11: 0 | I11: =E11 -> 2553752
B12: 경 비 | C12: 기 계 경 비 | E12: =ROUNDDOWN(집계표!I20, 0) -> 42594 | G12: C4 | H12: 0 | I12: =E12 -> 42594
C13: 산 재 보 험 료 | D13: ="(노)*"&H13*100&"%" -> (노)*3.56% | E13: =ROUNDDOWN((E11)*H13, 0) -> 90913 | G13: C10 | H13: 0.0356 | I13: =E13 -> 90913
C14: 고 용 보 험 료 | D14: ="(노)*"&H14*100&"%" -> (노)*1.01% | E14: =ROUNDDOWN((E11)*H14, 0) -> 25792 | G14: C11 | H14: 0.0101 | I14: =E14 -> 25792
C15: 건 강 보 험 료 | E15: =ROUNDDOWN((E9)*H15, 0) -> 0 | G15: C12 | H15: 0 | I15: =E15 -> 0
C16: 연 금 보 험 료 | E16: =ROUNDDOWN((E9)*H16, 0) -> 0 | G16: C13 | H16: 0 | I16: =E16 -> 0
C17: 노인 장기 요양보험료 | E17: =ROUNDDOWN((E15)*H17, 0) -> 0 | G17: C14 | H17: 0 | I17: =E17 -> 0
C18: 퇴 직 공 제 부 금 비 | E18: =ROUNDDOWN((E9)*H18, 0) -> 0 | G18: C15 | H18: 0 | I18: =E18 -> 0
C19: 산업 안전 보건관리비 | E19: =ROUNDDOWN((E8+E9+(E34-0)/1.1)*H19, 0) -> 0 | G19: C16 | H19: 0 | I19: =E19 -> 0
C20: 기 타 경 비 | D20: ="(재+노)*"&H20*100&"%" -> (재+노)*5.8% | E20: =ROUNDDOWN((E8+E11)*H20, 0) -> 884393 | G20: C20 | H20: 0.058 | I20: =E20 -> 884393
C21: 환 경 보 전 비 | E21: =ROUNDDOWN((E8+E9+E12)*H21, 0) -> 0 | G21: C25 | H21: 0 | I21: =E21 -> 0
C22: 건설하도급보증수수료 | E22: =ROUNDDOWN((E8+E9+E12)*H22, 0) -> 0 | G22: C30 | H22: 0 | I22: =E22 -> 0
C23: 공사 이행 보증수수료 | G23: C31 | H23: 0.000141 | I23: =E23 -> 0
C24: 건설기계대여보증수수료 | E24: =ROUNDDOWN((E8+E9+E12)*H24, 0) -> 0 | G24: C32 | H24: 0 | I24: =E24 -> 0
C25: 안 전 관 리 비 | E25: =집계표!AD20 -> 0 | G25: C17 | H25: 0 | I25: =E25 -> 0
C26: 품 질 관 리 비 | E26: =집계표!AE20 -> 0 | G26: C18 | H26: 0 | I26: =E26 -> 0
C27: 소 계 | E27: =SUM(E12:E26) -> 1043692 | G27: C | H27: 0 | I27: =E27 -> 1043692
B28: 계 | E28: =E8+E11+E27 -> 16291851 | G28: X | H28: 0 | I28: =E28 -> 16291851
A29: 일 반 관 리 비 | D29: ="(재+노+경)*"&H29*100&"%" -> (재+노+경)*6% | E29: =ROUNDDOWN((E8+E11+E27)*H29, 0) -> 977511 | G29: D | H29: 0.06 | I29: =E29 -> 977511
A30: 이 윤 | D30: ="(노+경+일)*"&H30*100&"%" -> (노+경+일)*14.977951% | E30: =ROUNDDOWN(I30,0) -> 686142 | G30: E | H30: 0.14977951 | I30: =(I11+I27+I29)*H30+908 -> 686142.52
A31: 총 원 가 | E31: =ROUNDDOWN(E28+E29+E30,0) -> 17955504 | G31: F | H31: 0 | I31: =SUM(I28:I30)+-1 -> 17955504
A32: 부 가 가 치 세 | D32: ="(총원가)*"&H32*100&"%" -> (총원가)*10% | E32: =ROUNDDOWN(E31*0.1,0) -> 1795550 | G32: H | H32: 0.1 | I32: =ROUNDDOWN((I31)*H32, 0)+1 -> 1795551 | J32: 1
A33: 도 급 금 액 | E33: =ROUNDDOWN(E31+E32,-4) -> 19750000 | G33: Y | H33: 0 | I33: =I31+I32 -> 19751055
A34: 관 급 자 재 대 | E34: =집계표!AA20 -> 0 | G34: J | H34: 0 | I34: =E34 -> 0
A35: 사 급 자 재 대 | E35: =집계표!Z20 -> 0 | G35: K | H35: 0 | I35: =E35 -> 0
A36: 폐 기 물 처 리 비 | E36: =집계표!W20 -> 0 | G36: L | H36: 0 | I36: =E36 -> 0
A37: 총 공 사 금 액 | E37: =ROUNDDOWN(E33+E34+E35+E36, 0) -> 19750000 | H37: 0 | I37: =I33+I34+I35+I36 -> 19751055

Sheet 집계표
A1: 공 사 집 계 표
A2: 공사명 : 전략반도체특화 실증랩 전시공간
A3: 품 명 | B3: 단위 | C3: 수량 | D3: 재 료 비 | F3: 노 무 비 | H3: 경 비 | J3: 합 계 | L3: 비고
D4: 단 가 | E4: 금 액 | F4: 단 가 | G4: 금 액 | H4: 단 가 | I4: 금 액 | J4: 단 가 | K4: 금 액 | M4: 손료요율 | N4: 손료구분 | O4: 적용구분 | P4: 합계구분 | Q4: 기계경비 | R4: 운반비 | S4: 작업부산물 | T4: 관급 | U4: 외주비 | V4: 장비비 | W4: 폐기물처리비 | X4: 가설비 | Y4: 잡비제외분 | Z4: 사급자재대 | AA4: 관급자재대 | AB4: 사용자항목1 | AC4: 사용자항목2 | AD4: 안전관리비 | AE4: 품질관리비 | AF4: 사용자항목5 | AG4: 사용자항목6 | AH4: 사용자항목7 | AI4: 사용자항목8 | AJ4: 사용자항목9 | AK4: 사용자항목10 | AL4: 사용자항목11 | AM4: 사용자항목12 | AN4: 사용자항목13 | AO4: 사용자항목14 | AP4: 사용자항목15 | AQ4: 사용자항목16 | AR4: 사용자항목17 | AS4: 사용자항목18 | AT4: 사용자항목19 | AU4: 간접재료비 | AV4: 품목구분 | AW4: 조달코드
A5: 01. 가설공사 | B5: 식 | C5: 1 | D5: =내역서!F20 -> 0 | E5: =C5*D5 -> 0 | F5: =내역서!H20 -> 148980 | G5: =C5*F5 -> 148980 | H5: =내역서!J20 -> 0 | I5: =C5*H5 -> 0 | J5: =D5+F5+H5 -> 148980 | K5: =E5+G5+I5 -> 148980 | P5: 1 | Q5: =C5*내역서!R20 -> 0 | R5: =C5*내역서!S20 -> 0 | S5: =C5*내역서!T20 -> 0 | T5: =C5*내역서!U20 -> 0 | U5: =C5*내역서!V20 -> 0 | V5: =C5*내역서!W20 -> 0 | W5: =C5*내역서!X20 -> 0 | X5: =C5*내역서!Y20 -> 0 | Y5: =C5*내역서!Z20 -> 0 | Z5: =C5*내역서!AA20 -> 0 | AA5: =C5*내역서!AB20 -> 0 | AB5: =C5*내역서!AC20 -> 0 | AC5: =C5*내역서!AD20 -> 0 | AD5: =C5*내역서!AE20 -> 0 | AE5: =C5*내역서!AF20 -> 0 | AF5: =C5*내역서!AG20 -> 0 | AG5: =C5*내역서!AH20 -> 0 | AH5: =C5*내역서!AI20 -> 0 | AI5: =C5*내역서!AJ20 -> 0 | AJ5: =C5*내역서!AK20 -> 0 | AK5: =C5*내역서!AL20 -> 0 | AL5: =C5*내역서!AM20 -> 0 | AM5: =C5*내역서!AN20 -> 0 | AN5: =C5*내역서!AO20 -> 0 | AO5: =C5*내역서!AP20 -> 0 | AP5: =C5*내역서!AQ20 -> 0 | AQ5: =C5*내역서!AR20 -> 0 | AR5: =C5*내역서!AS20 -> 0 | AS5: =C5*내역서!AT20 -> 0 | AT5: =C5*내역서!AU20 -> 0 | AU5: =C5*내역서!AV20 -> 0
A6: 02. 목공사 및 수장공사 | B6: 식 | C6: 1 | D6: =내역서!F36 -> 2269092 | E6: =C6*D6 -> 2269092 | F6: =내역서!H36 -> 1816571 | G6: =C6*F6 -> 1816571 | H6: =내역서!J36 -> 42594 | I6: =C6*H6 -> 42594 | J6: =D6+F6+H6 -> 4128257 | K6: =E6+G6+I6 -> 4128257 | P6: 1 | Q6: =C6*내역서!R36 -> 42594 | R6: =C6*내역서!S36 -> 0 | S6: =C6*내역서!T36 -> 0 | T6: =C6*내역서!U36 -> 0 | U6: =C6*내역서!V36 -> 0 | V6: =C6*내역서!W36 -> 0 | W6: =C6*내역서!X36 -> 0 | X6: =C6*내역서!Y36 -> 0 | Y6: =C6*내역서!Z36 -> 0 | Z6: =C6*내역서!AA36 -> 0 | AA6: =C6*내역서!AB36 -> 0 | AB6: =C6*내역서!AC36 -> 0 | AC6: =C6*내역서!AD36 -> 0 | AD6: =C6*내역서!AE36 -> 0 | AE6: =C6*내역서!AF36 -> 0 | AF6: =C6*내역서!AG36 -> 0 | AG6: =C6*내역서!AH36 -> 0 | AH6: =C6*내역서!AI36 -> 0 | AI6: =C6*내역서!AJ36 -> 0 | AJ6: =C6*내역서!AK36 -> 0 | AK6: =C6*내역서!AL36 -> 0 | AL6: =C6*내역서!AM36 -> 0 | AM6: =C6*내역서!AN36 -> 0 | AN6: =C6*내역서!AO36 -> 0 | AO6: =C6*내역서!AP36 -> 0 | AP6: =C6*내역서!AQ36 -> 0 | AQ6: =C6*내역서!AR36 -> 0 | AR6: =C6*내역서!AS36 -> 0 | AS6: =C6*내역서!AT36 -> 0 | AT6: =C6*내역서!AU36 -> 0 | AU6: =C6*내역서!AV36 -> 0
A7: 03. 사이니지설치 | B7: 식 | C7: 1 | D7: =내역서!F52 -> 7509315 | E7: =C7*D7 -> 7509315 | F7: =내역서!H52 -> 310521 | G7: =C7*F7 -> 310521 | H7: =내역서!J52 -> 0 | I7: =C7*H7 -> 0 | J7: =D7+F7+H7 -> 7819836 | K7: =E7+G7+I7 -> 7819836 | P7: 1 | Q7: =C7*내역서!R52 -> 0 | R7: =C7*내역서!S52 -> 0 | S7: =C7*내역서!T52 -> 0 | T7: =C7*내역서!U52 -> 0 | U7: =C7*내역서!V52 -> 0 | V7: =C7*내역서!W52 -> 0 | W7: =C7*내역서!X52 -> 0 | X7: =C7*내역서!Y52 -> 0 | Y7: =C7*내역서!Z52 -> 0 | Z7: =C7*내역서!AA52 -> 0 | AA7: =C7*내역서!AB52 -> 0 | AB7: =C7*내역서!AC52 -> 0 | AC7: =C7*내역서!AD52 -> 0 | AD7: =C7*내역서!AE52 -> 0 | AE7: =C7*내역서!AF52 -> 0 | AF7: =C7*내역서!AG52 -> 0 | AG7: =C7*내역서!AH52 -> 0 | AH7: =C7*내역서!AI52 -> 0 | AI7: =C7*내역서!AJ52 -> 0 | AJ7: =C7*내역서!AK52 -> 0 | AK7: =C7*내역서!AL52 -> 0 | AL7: =C7*내역서!AM52 -> 0 | AM7: =C7*내역서!AN52 -> 0 | AN7: =C7*내역서!AO52 -> 0 | AO7: =C7*내역서!AP52 -> 0 | AP7: =C7*내역서!AQ52 -> 0 | AQ7: =C7*내역서!AR52 -> 0 | AR7: =C7*내역서!AS52 -> 0 | AS7: =C7*내역서!AT52 -> 0 | AT7: =C7*내역서!AU52 -> 0 | AU7: =C7*내역서!AV52 -> 0
A8: 04. 기타공사 | B8: 식 | C8: 1 | D8: =내역서!F68 -> 2916000 | E8: =C8*D8 -> 2916000 | F8: =내역서!H68 -> 0 | G8: =C8*F8 -> 0 | H8: =내역서!J68 -> 0 | I8: =C8*H8 -> 0 | J8: =D8+F8+H8 -> 2916000 | K8: =E8+G8+I8 -> 2916000 | P8: 1 | Q8: =C8*내역서!R68 -> 0 | R8: =C8*내역서!S68 -> 0 | S8: =C8*내역서!T68 -> 0 | T8: =C8*내역서!U68 -> 0 | U8: =C8*내역서!V68 -> 0 | V8: =C8*내역서!W68 -> 0 | W8: =C8*내역서!X68 -> 0 | X8: =C8*내역서!Y68 -> 0 | Y8: =C8*내역서!Z68 -> 0 | Z8: =C8*내역서!AA68 -> 0 | AA8: =C8*내역서!AB68 -> 0 | AB8: =C8*내역서!AC68 -> 0 | AC8: =C8*내역서!AD68 -> 0 | AD8: =C8*내역서!AE68 -> 0 | AE8: =C8*내역서!AF68 -> 0 | AF8: =C8*내역서!AG68 -> 0 | AG8: =C8*내역서!AH68 -> 0 | AH8: =C8*내역서!AI68 -> 0 | AI8: =C8*내역서!AJ68 -> 0 | AJ8: =C8*내역서!AK68 -> 0 | AK8: =C8*내역서!AL68 -> 0 | AL8: =C8*내역서!AM68 -> 0 | AM8: =C8*내역서!AN68 -> 0 | AN8: =C8*내역서!AO68 -> 0 | AO8: =C8*내역서!AP68 -> 0 | AP8: =C8*내역서!AQ68 -> 0 | AQ8: =C8*내역서!AR68 -> 0 | AR8: =C8*내역서!AS68 -> 0 | AS8: =C8*내역서!AT68 -> 0 | AT8: =C8*내역서!AU68 -> 0 | AU8: =C8*내역서!AV68 -> 0
A20: 합 계 | E20: =SUMIF(P5:P8, "1", E5:E8) -> 12694407 | G20: =SUMIF(P5:P8, "1", G5:G8) -> 2276072 | I20: =SUMIF(P5:P8, "1", I5:I8) -> 42594 | K20: =E20+G20+I20 -> 15013073 | Q20: =SUM(Q5:Q8) -> 42594 | R20: =SUM(R5:R8) -> 0 | S20: =SUM(S5:S8) -> 0 | T20: =SUM(T5:T8) -> 0 | U20: =SUM(U5:U8) -> 0 | V20: =SUM(V5:V8) -> 0 | W20: =SUM(W5:W8) -> 0 | X20: =SUM(X5:X8) -> 0 | ... AW20: =SUM(AW5:AW8) -> 0

Sheet 내역서
A1: 공 사 내 역 서
A2: 공사명 : 전략반도체특화 실증랩 전시공간
A3: 품 명 | B3: 규 격 | C3: 단위 | D3: 수 량 | E3: 재 료 비 | G3: 노 무 비 | I3: 경 비 | K3: 합 계 | M3: 비고
E4: 단 가 | F4: 금 액 | G4: 단 가 | H4: 금 액 | I4: 단 가 | J4: 금 액 | K4: 단 가 | L4: 금 액 | N4: 손료요율 | O4: 손료구분 | P4: 적용구분 | Q4: 합계구분 | R4: 기계경비 | S4: 운반비 | T4: 작업부산물 | U4: 관급 | V4: 외주비 | W4: 장비비 | X4: 폐기물처리비 | Y4: 가설비 | Z4: 잡비제외분 | AA4: 사급자재대 | AB4: 관급자재대 | AC4: 사용자항목1 | AD4: 사용자항목2 | AE4: 안전관리비 | AF4: 품질관리비 | AG4: 사용자항목5 | AH4: 사용자항목6 | AI4: 사용자항목7 | AJ4: 사용자항목8 | AK4: 사용자항목9 | AL4: 사용자항목10 | AM4: 사용자항목11 | AN4: 사용자항목12 | AO4: 사용자항목13 | AP4: 사용자항목14 | AQ4: 사용자항목15 | AR4: 사용자항목16 | AS4: 사용자항목17 | AT4: 사용자항목18 | AU4: 사용자항목19 | AV4: 간접재료비 | AW4: 품목구분 | AX4: 조달코드
A5: 01. 가설공사
A6: 자재 소운반(15층 이하 기준) | C6: M2 | D6: 20 | E6: =ROUNDDOWN(일위대가목록!G5, 2) -> 0 | F6: =ROUNDDOWN(D6*E6, 0) -> 0 | G6: =ROUNDDOWN(일위대가목록!I5, 0) -> 7449 | H6: =ROUNDDOWN(D6*G6, 0) -> 148980 | I6: =ROUNDDOWN(일위대가목록!K5, 2) -> 0 | J6: =ROUNDDOWN(D6*I6, 0) -> 0 | K6: =E6+G6+I6 -> 7449 | L6: =F6+H6+J6 -> 148980 | M6: 일위 1호 | O6: ="" | P6: 기계경비 | Q6: 1 | R6: =IF(P6="기계경비", J6, 0) -> 0 | S6: =IF(P6="운반비", J6, 0) -> 0 | T6: =IF(P6="작업부산물", F6, 0) -> 0 | U6: =IF(P6="관급", F6, 0) -> 0 | V6: =IF(P6="외주비", J6, 0) -> 0 | W6: =IF(P6="장비비", J6, 0) -> 0 | X6: =IF(P6="폐기물처리비", J6, 0) -> 0 | Y6: =IF(P6="가설비", J6, 0) -> 0 | Z6: =IF(P6="잡비제외분", F6, 0) -> 0 | AA6: =IF(P6="사급자재대", L6, 0) -> 0 | AB6: =IF(P6="관급자재대", L6, 0) -> 0 | AC6: =IF(P6="사용자항목1", L6, 0) -> 0 | AD6: =IF(P6="사용자항목2", L6, 0) -> 0 | AE6: =IF(P6="안전관리비", L6, 0) -> 0 | AF6: =IF(P6="품질관리비", L6, 0) -> 0 | AG6: =IF(P6="사용자항목5", L6, 0) -> 0 | AH6: =IF(P6="사용자항목6", L6, 0) -> 0 | AI6: =IF(P6="사용자항목7", L6, 0) -> 0 | AJ6: =IF(P6="사용자항목8", L6, 0) -> 0 | AK6: =IF(P6="사용자항목9", L6, 0) -> 0 | AL6: =IF(P6="사용자항목10", L6, 0) -> 0 | AM6: =IF(P6="사용자항목11", L6, 0) -> 0 | AN6: =IF(P6="사용자항목12", L6, 0) -> 0 | AO6: =IF(P6="사용자항목13", L6, 0) -> 0 | AP6: =IF(P6="사용자항목14", L6, 0) -> 0 | AQ6: =IF(P6="사용자항목15", L6, 0) -> 0 | AR6: =IF(P6="사용자항목16", L6, 0) -> 0 | AS6: =IF(P6="사용자항목17", L6, 0) -> 0 | AT6: =IF(P6="사용자항목18", L6, 0) -> 0 | AU6: =IF(P6="사용자항목19", L6, 0) -> 0
A20: 합 계 | F20: =SUM(F6:F19) -> 0 | H20: =SUM(H6:H19) -> 148980 | I20: =SUM(I6:I19) -> 0 | J20: =ROUNDDOWN(SUMIF(Q6:Q19, "1", J6:J19), 0) -> 0 | L20: =F20+H20+J20 -> 148980 | R20: =ROUNDDOWN(SUM(R6:R6), 0) -> 0 | S20: =ROUNDDOWN(SUM(S6:S6), 0) -> 0 | T20: =ROUNDDOWN(SUM(T6:T6), 0) -> 0 | U20: =ROUNDDOWN(SUM(U6:U6), 0) -> 0 | V20: =ROUNDDOWN(SUM(V6:V6), 0) -> 0 | W20: =ROUNDDOWN(SUM(W6:W6), 0) -> 0 | X20: =ROUNDDOWN(SUM(X6:X6), 0) -> 0 | Y20: =ROUNDDOWN(SUM(Y6:Y6), 0) -> 0 | ... AX20: =ROUNDDOWN(SUM(AX6:AX6), 0) -> 0
A21: 02. 목공사 및 수장공사
A22: 목조칸막이벽설치 | B22: 외송각재, 70*70@450*600 | C22: M2 | D22: 22 | E22: =ROUNDDOWN(일위대가목록!G6, 0) -> 16779 | F22: =ROUNDDOWN(D22*E22, 0) -> 369138 | G22: =ROUNDDOWN(일위대가목록!I6, 0) -> 35083 | H22: =ROUNDDOWN(D22*G22, 0) -> 771826 | I22: =ROUNDDOWN(일위대가목록!K6, 0) -> 1052 | J22: =ROUNDDOWN(D22*I22, 0) -> 23144 | K22: =E22+G22+I22 -> 52914 | L22: =F22+H22+J22 -> 1164108 | M22: 일위 2호 | O22: ="" | P22: 기계경비 | Q22: 1 | R22: =IF(P22="기계경비", J22, 0) -> 23144 | S22: =IF(P22="운반비", J22, 0) -> 0 | T22: =IF(P22="작업부산물", F22, 0) -> 0 | U22: =IF(P22="관급", F22, 0) -> 0 | V22: =IF(P22="외주비", J22, 0) -> 0 | W22: =IF(P22="장비비", J22, 0) -> 0 | X22: =IF(P22="폐기물처리비", J22, 0) -> 0 | Y22: =IF(P22="가설비", J22, 0) -> 0 | Z22: =IF(P22="잡비제외분", F22, 0) -> 0 | AA22: =IF(P22="사급자재대", L22, 0) -> 0 | AB22: =IF(P22="관급자재대", L22, 0) -> 0 | AC22: =IF(P22="사용자항목1", L22, 0) -> 0 | AD22: =IF(P22="사용자항목2", L22, 0) -> 0 | AE22: =IF(P22="안전관리비", L22, 0) -> 0 | AF22: =IF(P22="품질관리비", L22, 0) -> 0 | AG22: =IF(P22="사용자항목5", L22, 0) -> 0 | AH22: =IF(P22="사용자항목6", L22, 0) -> 0 | AI22: =IF(P22="사용자항목7", L22, 0) -> 0 | AJ22: =IF(P22="사용자항목8", L22, 0) -> 0 | AK22: =IF(P22="사용자항목9", L22, 0) -> 0 | AL22: =IF(P22="사용자항목10", L22, 0) -> 0 | AM22: =IF(P22="사용자항목11", L22, 0) -> 0 | AN22: =IF(P22="사용자항목12", L22, 0) -> 0 | AO22: =IF(P22="사용자항목13", L22, 0) -> 0 | AP22: =IF(P22="사용자항목14", L22, 0) -> 0 | AQ22: =IF(P22="사용자항목15", L22, 0) -> 0 | AR22: =IF(P22="사용자항목16", L22, 0) -> 0 | AS22: =IF(P22="사용자항목17", L22, 0) -> 0 | AT22: =IF(P22="사용자항목18", L22, 0) -> 0 | AU22: =IF(P22="사용자항목19", L22, 0) -> 0
A23: 벽,MDF붙임 | B23: MDF포함 | C23: M2 | D23: 41 | E23: =ROUNDDOWN(일위대가목록!G7, 0) -> 4819 | F23: =ROUNDDOWN(D23*E23, 0) -> 197579 | G23: =ROUNDDOWN(일위대가목록!I7, 0) -> 17541 | H23: =ROUNDDOWN(D23*G23, 0) -> 719181 | I23: =ROUNDDOWN(일위대가목록!K7, 0) -> 350 | J23: =ROUNDDOWN(D23*I23, 0) -> 14350 | K23: =E23+G23+I23 -> 22710 | L23: =F23+H23+J23 -> 931110 | M23: 일위 3호 | O23: ="" | P23: 기계경비 | Q23: 1 | R23: =IF(P23="기계경비", J23, 0) -> 14350 | S23: =IF(P23="운반비", J23, 0) -> 0 | T23: =IF(P23="작업부산물", F23, 0) -> 0 | U23: =IF(P23="관급", F23, 0) -> 0 | V23: =IF(P23="외주비", J23, 0) -> 0 | W23: =IF(P23="장비비", J23, 0) -> 0 | X23: =IF(P23="폐기물처리비", J23, 0) -> 0 | Y23: =IF(P23="가설비", J23, 0) -> 0 | Z23: =IF(P23="잡비제외분", F23, 0) -> 0 | AA23: =IF(P23="사급자재대", L23, 0) -> 0 | AB23: =IF(P23="관급자재대", L23, 0) -> 0 | AC23: =IF(P23="사용자항목1", L23, 0) -> 0 | AD23: =IF(P23="사용자항목2", L23, 0) -> 0 | AE23: =IF(P23="안전관리비", L23, 0) -> 0 | AF23: =IF(P23="품질관리비", L23, 0) -> 0 | AG23: =IF(P23="사용자항목5", L23, 0) -> 0 | AH23: =IF(P23="사용자항목6", L23, 0) -> 0 | AI23: =IF(P23="사용자항목7", L23, 0) -> 0 | AJ23: =IF(P23="사용자항목8", L23, 0) -> 0 | AK23: =IF(P23="사용자항목9", L23, 0) -> 0 | AL23: =IF(P23="사용자항목10", L23, 0) -> 0 | AM23: =IF(P23="사용자항목11", L23, 0) -> 0 | AN23: =IF(P23="사용자항목12", L23, 0) -> 0 | AO23: =IF(P23="사용자항목13", L23, 0) -> 0 | AP23: =IF(P23="사용자항목14", L23, 0) -> 0 | AQ23: =IF(P23="사용자항목15", L23, 0) -> 0 | AR23: =IF(P23="사용자항목16", L23, 0) -> 0 | AS23: =IF(P23="사용자항목17", L23, 0) -> 0 | AT23: =IF(P23="사용자항목18", L23, 0) -> 0 | AU23: =IF(P23="사용자항목19", L23, 0) -> 0
A24: 석고판 | B24: 석고보드, 평보드, 9.5×900×1800mm(매) | C24: 매 | D24: 22 | E24: =ROUNDDOWN(단가대비표!O8, 0) -> 4700 | F24: =ROUNDDOWN(D24*E24, 0) -> 103400 | G24: 0 | H24: =ROUNDDOWN(D24*G24, 0) -> 0 | I24: 0 | J24: =ROUNDDOWN(D24*I24, 0) -> 0 | K24: =E24+G24+I24 -> 4700 | L24: =F24+H24+J24 -> 103400 | O24: ="01" -> 01 | P24: 기계경비 | Q24: 1 | R24: =IF(P24="기계경비", J24, 0) -> 0 | S24: =IF(P24="운반비", J24, 0) -> 0 | T24: =IF(P24="작업부산물", F24, 0) -> 0 | U24: =IF(P24="관급", F24, 0) -> 0 | V24: =IF(P24="외주비", J24, 0) -> 0 | W24: =IF(P24="장비비", J24, 0) -> 0 | X24: =IF(P24="폐기물처리비", J24, 0) -> 0 | Y24: =IF(P24="가설비", J24, 0) -> 0 | Z24: =IF(P24="잡비제외분", F24, 0) -> 0 | AA24: =IF(P24="사급자재대", L24, 0) -> 0 | AB24: =IF(P24="관급자재대", L24, 0) -> 0 | AC24: =IF(P24="사용자항목1", L24, 0) -> 0 | AD24: =IF(P24="사용자항목2", L24, 0) -> 0 | AE24: =IF(P24="안전관리비", L24, 0) -> 0 | AF24: =IF(P24="품질관리비", L24, 0) -> 0 | AG24: =IF(P24="사용자항목5", L24, 0) -> 0 | AH24: =IF(P24="사용자항목6", L24, 0) -> 0 | AI24: =IF(P24="사용자항목7", L24, 0) -> 0 | AJ24: =IF(P24="사용자항목8", L24, 0) -> 0 | AK24: =IF(P24="사용자항목9", L24, 0) -> 0 | AL24: =IF(P24="사용자항목10", L24, 0) -> 0 | AM24: =IF(P24="사용자항목11", L24, 0) -> 0 | AN24: =IF(P24="사용자항목12", L24, 0) -> 0 | AO24: =IF(P24="사용자항목13", L24, 0) -> 0 | AP24: =IF(P24="사용자항목14", L24, 0) -> 0 | AQ24: =IF(P24="사용자항목15", L24, 0) -> 0 | AR24: =IF(P24="사용자항목16", L24, 0) -> 0 | AS24: =IF(P24="사용자항목17", L24, 0) -> 0 | AT24: =IF(P24="사용자항목18", L24, 0) -> 0 | AU24: =IF(P24="사용자항목19", L24, 0) -> 0
A25: 석고보드 설치 | B25: 건식벽체, 1P, 3.6m 이하,일반, 방수, 차음, 방화 15mm이하 | C25: m2 | D25: 22 | E25: =ROUNDDOWN(일위대가목록!G8, 0) -> 70 | F25: =ROUNDDOWN(D25*E25, 0) -> 1540 | G25: =ROUNDDOWN(일위대가목록!I8, 0) -> 7012 | H25: =ROUNDDOWN(D25*G25, 0) -> 154264 | I25: =ROUNDDOWN(일위대가목록!K8, 2) -> 0 | J25: =ROUNDDOWN(D25*I25, 0) -> 0 | K25: =E25+G25+I25 -> 7082 | L25: =F25+H25+J25 -> 155804 | M25: 일위 4호 | O25: ="" | P25: 기계경비 | Q25: 1 | R25: =IF(P25="기계경비", J25, 0) -> 0 | S25: =IF(P25="운반비", J25, 0) -> 0 | T25: =IF(P25="작업부산물", F25, 0) -> 0 | U25: =IF(P25="관급", F25, 0) -> 0 | V25: =IF(P25="외주비", J25, 0) -> 0 | W25: =IF(P25="장비비", J25, 0) -> 0 | X25: =IF(P25="폐기물처리비", J25, 0) -> 0 | Y25: =IF(P25="가설비", J25, 0) -> 0 | Z25: =IF(P25="잡비제외분", F25, 0) -> 0 | AA25: =IF(P25="사급자재대", L25, 0) -> 0 | AB25: =IF(P25="관급자재대", L25, 0) -> 0 | AC25: =IF(P25="사용자항목1", L25, 0) -> 0 | AD25: =IF(P25="사용자항목2", L25, 0) -> 0 | AE25: =IF(P25="안전관리비", L25, 0) -> 0 | AF25: =IF(P25="품질관리비", L25, 0) -> 0 | AG25: =IF(P25="사용자항목5", L25, 0) -> 0 | AH25: =IF(P25="사용자항목6", L25, 0) -> 0 | AI25: =IF(P25="사용자항목7", L25, 0) -> 0 | AJ25: =IF(P25="사용자항목8", L25, 0) -> 0 | AK25: =IF(P25="사용자항목9", L25, 0) -> 0 | AL25: =IF(P25="사용자항목10", L25, 0) -> 0 | AM25: =IF(P25="사용자항목11", L25, 0) -> 0 | AN25: =IF(P25="사용자항목12", L25, 0) -> 0 | AO25: =IF(P25="사용자항목13", L25, 0) -> 0 | AP25: =IF(P25="사용자항목14", L25, 0) -> 0 | AQ25: =IF(P25="사용자항목15", L25, 0) -> 0 | AR25: =IF(P25="사용자항목16", L25, 0) -> 0 | AS25: =IF(P25="사용자항목17", L25, 0) -> 0 | AT25: =IF(P25="사용자항목18", L25, 0) -> 0 | AU25: =IF(P25="사용자항목19", L25, 0) -> 0
A26: 걸레받이 설치 | B26: 합성수지/높이 75∼120㎜ | C26: m | D26: 15 | E26: =ROUNDDOWN(일위대가목록!G9, 0) -> 121 | F26: =ROUNDDOWN(D26*E26, 0) -> 1815 | G26: =ROUNDDOWN(일위대가목록!I9, 0) -> 2897 | H26: =ROUNDDOWN(D26*G26, 0) -> 43455 | I26: =ROUNDDOWN(일위대가목록!K9, 2) -> 0 | J26: =ROUNDDOWN(D26*I26, 0) -> 0 | K26: =E26+G26+I26 -> 3018 | L26: =F26+H26+J26 -> 45270 | M26: 일위 5호 | O26: ="" | P26: 기계경비 | Q26: 1 | R26: =IF(P26="기계경비", J26, 0) -> 0 | S26: =IF(P26="운반비", J26, 0) -> 0 | T26: =IF(P26="작업부산물", F26, 0) -> 0 | U26: =IF(P26="관급", F26, 0) -> 0 | V26: =IF(P26="외주비", J26, 0) -> 0 | W26: =IF(P26="장비비", J26, 0) -> 0 | X26: =IF(P26="폐기물처리비", J26, 0) -> 0 | Y26: =IF(P26="가설비", J26, 0) -> 0 | Z26: =IF(P26="잡비제외분", F26, 0) -> 0 | AA26: =IF(P26="사급자재대", L26, 0) -> 0 | AB26: =IF(P26="관급자재대", L26, 0) -> 0 | AC26: =IF(P26="사용자항목1", L26, 0) -> 0 | AD26: =IF(P26="사용자항목2", L26, 0) -> 0 | AE26: =IF(P26="안전관리비", L26, 0) -> 0 | AF26: =IF(P26="품질관리비", L26, 0) -> 0 | AG26: =IF(P26="사용자항목5", L26, 0) -> 0 | AH26: =IF(P26="사용자항목6", L26, 0) -> 0 | AI26: =IF(P26="사용자항목7", L26, 0) -> 0 | AJ26: =IF(P26="사용자항목8", L26, 0) -> 0 | AK26: =IF(P26="사용자항목9", L26, 0) -> 0 | AL26: =IF(P26="사용자항목10", L26, 0) -> 0 | AM26: =IF(P26="사용자항목11", L26, 0) -> 0 | AN26: =IF(P26="사용자항목12", L26, 0) -> 0 | AO26: =IF(P26="사용자항목13", L26, 0) -> 0 | AP26: =IF(P26="사용자항목14", L26, 0) -> 0 | AQ26: =IF(P26="사용자항목15", L26, 0) -> 0 | AR26: =IF(P26="사용자항목16", L26, 0) -> 0 | AS26: =IF(P26="사용자항목17", L26, 0) -> 0 | AT26: =IF(P26="사용자항목18", L26, 0) -> 0 | AU26: =IF(P26="사용자항목19", L26, 0) -> 0
A27: 천정몰딩설치 | B27: 55*12,랩핑몰딩 | C27: M | D27: 15 | E27: =ROUNDDOWN(일위대가목록!G10, 0) -> 2508 | F27: =ROUNDDOWN(D27*E27, 0) -> 37620 | G27: =ROUNDDOWN(일위대가목록!I10, 0) -> 8523 | H27: =ROUNDDOWN(D27*G27, 0) -> 127845 | I27: =ROUNDDOWN(일위대가목록!K10, 0) -> 340 | J27: =ROUNDDOWN(D27*I27, 0) -> 5100 | K27: =E27+G27+I27 -> 11371 | L27: =F27+H27+J27 -> 170565 | M27: 일위 6호 | O27: ="" | P27: 기계경비 | Q27: 1 | R27: =IF(P27="기계경비", J27, 0) -> 5100 | S27: =IF(P27="운반비", J27, 0) -> 0 | T27: =IF(P27="작업부산물", F27, 0) -> 0 | U27: =IF(P27="관급", F27, 0) -> 0 | V27: =IF(P27="외주비", J27, 0) -> 0 | W27: =IF(P27="장비비", J27, 0) -> 0 | X27: =IF(P27="폐기물처리비", J27, 0) -> 0 | Y27: =IF(P27="가설비", J27, 0) -> 0 | Z27: =IF(P27="잡비제외분", F27, 0) -> 0 | AA27: =IF(P27="사급자재대", L27, 0) -> 0 | AB27: =IF(P27="관급자재대", L27, 0) -> 0 | AC27: =IF(P27="사용자항목1", L27, 0) -> 0 | AD27: =IF(P27="사용자항목2", L27, 0) -> 0 | AE27: =IF(P27="안전관리비", L27, 0) -> 0 | AF27: =IF(P27="품질관리비", L27, 0) -> 0 | AG27: =IF(P27="사용자항목5", L27, 0) -> 0 | AH27: =IF(P27="사용자항목6", L27, 0) -> 0 | AI27: =IF(P27="사용자항목7", L27, 0) -> 0 | AJ27: =IF(P27="사용자항목8", L27, 0) -> 0 | AK27: =IF(P27="사용자항목9", L27, 0) -> 0 | AL27: =IF(P27="사용자항목10", L27, 0) -> 0 | AM27: =IF(P27="사용자항목11", L27, 0) -> 0 | AN27: =IF(P27="사용자항목12", L27, 0) -> 0 | AO27: =IF(P27="사용자항목13", L27, 0) -> 0 | AP27: =IF(P27="사용자항목14", L27, 0) -> 0 | AQ27: =IF(P27="사용자항목15", L27, 0) -> 0 | AR27: =IF(P27="사용자항목16", L27, 0) -> 0 | AS27: =IF(P27="사용자항목17", L27, 0) -> 0 | AT27: =IF(P27="사용자항목18", L27, 0) -> 0 | AU27: =IF(P27="사용자항목19", L27, 0) -> 0
A28: 인테리어필름 | B28: 무늬목, 시공비/부자재포함 | C28: M2 | D28: 41 | E28: =ROUNDDOWN(단가대비표!O9, 0) -> 38000 | F28: =ROUNDDOWN(D28*E28, 0) -> 1558000 | G28: 0 | H28: =ROUNDDOWN(D28*G28, 0) -> 0 | I28: 0 | J28: =ROUNDDOWN(D28*I28, 0) -> 0 | K28: =E28+G28+I28 -> 38000 | L28: =F28+H28+J28 -> 1558000 | O28: ="01" -> 01 | P28: 기계경비 | Q28: 1 | R28: =IF(P28="기계경비", J28, 0) -> 0 | S28: =IF(P28="운반비", J28, 0) -> 0 | T28: =IF(P28="작업부산물", F28, 0) -> 0 | U28: =IF(P28="관급", F28, 0) -> 0 | V28: =IF(P28="외주비", J28, 0) -> 0 | W28: =IF(P28="장비비", J28, 0) -> 0 | X28: =IF(P28="폐기물처리비", J28, 0) -> 0 | Y28: =IF(P28="가설비", J28, 0) -> 0 | Z28: =IF(P28="잡비제외분", F28, 0) -> 0 | AA28: =IF(P28="사급자재대", L28, 0) -> 0 | AB28: =IF(P28="관급자재대", L28, 0) -> 0 | AC28: =IF(P28="사용자항목1", L28, 0) -> 0 | AD28: =IF(P28="사용자항목2", L28, 0) -> 0 | AE28: =IF(P28="안전관리비", L28, 0) -> 0 | AF28: =IF(P28="품질관리비", L28, 0) -> 0 | AG28: =IF(P28="사용자항목5", L28, 0) -> 0 | AH28: =IF(P28="사용자항목6", L28, 0) -> 0 | AI28: =IF(P28="사용자항목7", L28, 0) -> 0 | AJ28: =IF(P28="사용자항목8", L28, 0) -> 0 | AK28: =IF(P28="사용자항목9", L28, 0) -> 0 | AL28: =IF(P28="사용자항목10", L28, 0) -> 0 | AM28: =IF(P28="사용자항목11", L28, 0) -> 0 | AN28: =IF(P28="사용자항목12", L28, 0) -> 0 | AO28: =IF(P28="사용자항목13", L28, 0) -> 0 | AP28: =IF(P28="사용자항목14", L28, 0) -> 0 | AQ28: =IF(P28="사용자항목15", L28, 0) -> 0 | AR28: =IF(P28="사용자항목16", L28, 0) -> 0 | AS28: =IF(P28="사용자항목17", L28, 0) -> 0 | AT28: =IF(P28="사용자항목18", L28, 0) -> 0 | AU28: =IF(P28="사용자항목19", L28, 0) -> 0
A36: 합 계 | F36: =SUM(F22:F35) -> 2269092 | H36: =SUM(H22:H35) -> 1816571 | J36: =SUM(J22:J35) -> 42594 | L36: =F36+H36+J36 -> 4128257 | R36: =ROUNDDOWN(SUM(R22:R28), 0) -> 42594 | S36: =ROUNDDOWN(SUM(S22:S28), 0) -> 0 | T36: =ROUNDDOWN(SUM(T22:T28), 0) -> 0 | U36: =ROUNDDOWN(SUM(U22:U28), 0) -> 0 | V36: =ROUNDDOWN(SUM(V22:V28), 0) -> 0 | W36: =ROUNDDOWN(SUM(W22:W28), 0) -> 0 | X36: =ROUNDDOWN(SUM(X22:X28), 0) -> 0 | Y36: =ROUNDDOWN(SUM(Y22:Y28), 0) -> 0 | ... AX36: =ROUNDDOWN(SUM(AX22:AX28), 0) -> 0
A37: 03. 사이니지설치
A38: 디지털 사이니지 설치 | B38: 비디오월 설치 | C38: 면 | D38: 3 | E38: =ROUNDDOWN(일위대가목록!G11, 0) -> 3105 | F38: =ROUNDDOWN(D38*E38, 0) -> 9315 | G38: =ROUNDDOWN(일위대가목록!I11, 0) -> 103507 | H38: =ROUNDDOWN(D38*G38, 0) -> 310521 | I38: =ROUNDDOWN(일위대가목록!K11, 2) -> 0 | J38: =ROUNDDOWN(D38*I38, 0) -> 0 | K38: =E38+G38+I38 -> 106612 | L38: =F38+H38+J38 -> 319836 | M38: 일위 7호 | O38: ="" | P38: 기계경비 | Q38: 1 | R38: =IF(P38="기계경비", J38, 0) -> 0 | S38: =IF(P38="운반비", J38, 0) -> 0 | T38: =IF(P38="작업부산물", F38, 0) -> 0 | U38: =IF(P38="관급", F38, 0) -> 0 | V38: =IF(P38="외주비", J38, 0) -> 0 | W38: =IF(P38="장비비", J38, 0) -> 0 | X38: =IF(P38="폐기물처리비", J38, 0) -> 0 | Y38: =IF(P38="가설비", J38, 0) -> 0 | Z38: =IF(P38="잡비제외분", F38, 0) -> 0 | AA38: =IF(P38="사급자재대", L38, 0) -> 0 | AB38: =IF(P38="관급자재대", L38, 0) -> 0 | AC38: =IF(P38="사용자항목1", L38, 0) -> 0 | AD38: =IF(P38="사용자항목2", L38, 0) -> 0 | AE38: =IF(P38="안전관리비", L38, 0) -> 0 | AF38: =IF(P38="품질관리비", L38, 0) -> 0 | AG38: =IF(P38="사용자항목5", L38, 0) -> 0 | AH38: =IF(P38="사용자항목6", L38, 0) -> 0 | AI38: =IF(P38="사용자항목7", L38, 0) -> 0 | AJ38: =IF(P38="사용자항목8", L38, 0) -> 0 | AK38: =IF(P38="사용자항목9", L38, 0) -> 0 | AL38: =IF(P38="사용자항목10", L38, 0) -> 0 | AM38: =IF(P38="사용자항목11", L38, 0) -> 0 | AN38: =IF(P38="사용자항목12", L38, 0) -> 0 | AO38: =IF(P38="사용자항목13", L38, 0) -> 0 | AP38: =IF(P38="사용자항목14", L38, 0) -> 0 | AQ38: =IF(P38="사용자항목15", L38, 0) -> 0 | AR38: =IF(P38="사용자항목16", L38, 0) -> 0 | AS38: =IF(P38="사용자항목17", L38, 0) -> 0 | AT38: =IF(P38="사용자항목18", L38, 0) -> 0 | AU38: =IF(P38="사용자항목19", L38, 0) -> 0
A39: 디지털사이니지 | B39: 55Inch | C39: 대 | D39: 3 | E39: 2500000 | F39: =ROUNDDOWN(D39*E39, 0) -> 7500000 | K39: =E39+G39+I39 -> 2500000 | L39: =F39+H39+J39 -> 7500000
A52: 합 계 | F52: =SUM(F38:F51) -> 7509315 | H52: =SUM(H38:H51) -> 310521 | J52: =ROUNDDOWN(SUMIF(Q38:Q51, "1", J38:J51), 0) -> 0 | L52: =F52+H52+J52 -> 7819836 | R52: =ROUNDDOWN(SUM(R38:R38), 0) -> 0 | S52: =ROUNDDOWN(SUM(S38:S38), 0) -> 0 | T52: =ROUNDDOWN(SUM(T38:T38), 0) -> 0 | U52: =ROUNDDOWN(SUM(U38:U38), 0) -> 0 | V52: =ROUNDDOWN(SUM(V38:V38), 0) -> 0 | W52: =ROUNDDOWN(SUM(W38:W38), 0) -> 0 | X52: =ROUNDDOWN(SUM(X38:X38), 0) -> 0 | Y52: =ROUNDDOWN(SUM(Y38:Y38), 0) -> 0 | ... AX52: =ROUNDDOWN(SUM(AX38:AX38), 0) -> 0
A53: 04. 기타공사
A54: 문화재보호시설 | B54: 아크릴스카시, H:100(도장/취부 포함) | C54: 문자 | D54: 22 | E54: =ROUNDDOWN(단가대비표!O6, 0) -> 53000 | F54: =ROUNDDOWN(D54*E54, 0) -> 1166000 | G54: 0 | H54: =ROUNDDOWN(D54*G54, 0) -> 0 | I54: 0 | J54: =ROUNDDOWN(D54*I54, 0) -> 0 | K54: =E54+G54+I54 -> 53000 | L54: =F54+H54+J54 -> 1166000 | O54: ="01" -> 01 | P54: 기계경비 | Q54: 1 | R54: =IF(P54="기계경비", J54, 0) -> 0 | S54: =IF(P54="운반비", J54, 0) -> 0 | T54: =IF(P54="작업부산물", F54, 0) -> 0 | U54: =IF(P54="관급", F54, 0) -> 0 | V54: =IF(P54="외주비", J54, 0) -> 0 | W54: =IF(P54="장비비", J54, 0) -> 0 | X54: =IF(P54="폐기물처리비", J54, 0) -> 0 | Y54: =IF(P54="가설비", J54, 0) -> 0 | Z54: =IF(P54="잡비제외분", F54, 0) -> 0 | AA54: =IF(P54="사급자재대", L54, 0) -> 0 | AB54: =IF(P54="관급자재대", L54, 0) -> 0 | AC54: =IF(P54="사용자항목1", L54, 0) -> 0 | AD54: =IF(P54="사용자항목2", L54, 0) -> 0 | AE54: =IF(P54="안전관리비", L54, 0) -> 0 | AF54: =IF(P54="품질관리비", L54, 0) -> 0 | AG54: =IF(P54="사용자항목5", L54, 0) -> 0 | AH54: =IF(P54="사용자항목6", L54, 0) -> 0 | AI54: =IF(P54="사용자항목7", L54, 0) -> 0 | AJ54: =IF(P54="사용자항목8", L54, 0) -> 0 | AK54: =IF(P54="사용자항목9", L54, 0) -> 0 | AL54: =IF(P54="사용자항목10", L54, 0) -> 0 | AM54: =IF(P54="사용자항목11", L54, 0) -> 0 | AN54: =IF(P54="사용자항목12", L54, 0) -> 0 | AO54: =IF(P54="사용자항목13", L54, 0) -> 0 | AP54: =IF(P54="사용자항목14", L54, 0) -> 0 | AQ54: =IF(P54="사용자항목15", L54, 0) -> 0 | AR54: =IF(P54="사용자항목16", L54, 0) -> 0 | AS54: =IF(P54="사용자항목17", L54, 0) -> 0 | AT54: =IF(P54="사용자항목18", L54, 0) -> 0 | AU54: =IF(P54="사용자항목19", L54, 0) -> 0
A55: 문화재보호시설 | B55: 컷팅쉬트(문자,이미지포함), 시공비포함(고소작업 제외) | C55: M2 | D55: 1 | E55: =ROUNDDOWN(단가대비표!O7, 0) -> 150000 | F55: =ROUNDDOWN(D55*E55, 0) -> 150000 | G55: 0 | H55: =ROUNDDOWN(D55*G55, 0) -> 0 | I55: 0 | J55: =ROUNDDOWN(D55*I55, 0) -> 0 | K55: =E55+G55+I55 -> 150000 | L55: =F55+H55+J55 -> 150000 | O55: ="01" -> 01 | P55: 기계경비 | Q55: 1 | R55: =IF(P55="기계경비", J55, 0) -> 0 | S55: =IF(P55="운반비", J55, 0) -> 0 | T55: =IF(P55="작업부산물", F55, 0) -> 0 | U55: =IF(P55="관급", F55, 0) -> 0 | V55: =IF(P55="외주비", J55, 0) -> 0 | W55: =IF(P55="장비비", J55, 0) -> 0 | X55: =IF(P55="폐기물처리비", J55, 0) -> 0 | Y55: =IF(P55="가설비", J55, 0) -> 0 | Z55: =IF(P55="잡비제외분", F55, 0) -> 0 | AA55: =IF(P55="사급자재대", L55, 0) -> 0 | AB55: =IF(P55="관급자재대", L55, 0) -> 0 | AC55: =IF(P55="사용자항목1", L55, 0) -> 0 | AD55: =IF(P55="사용자항목2", L55, 0) -> 0 | AE55: =IF(P55="안전관리비", L55, 0) -> 0 | AF55: =IF(P55="품질관리비", L55, 0) -> 0 | AG55: =IF(P55="사용자항목5", L55, 0) -> 0 | AH55: =IF(P55="사용자항목6", L55, 0) -> 0 | AI55: =IF(P55="사용자항목7", L55, 0) -> 0 | AJ55: =IF(P55="사용자항목8", L55, 0) -> 0 | AK55: =IF(P55="사용자항목9", L55, 0) -> 0 | AL55: =IF(P55="사용자항목10", L55, 0) -> 0 | AM55: =IF(P55="사용자항목11", L55, 0) -> 0 | AN55: =IF(P55="사용자항목12", L55, 0) -> 0 | AO55: =IF(P55="사용자항목13", L55, 0) -> 0 | AP55: =IF(P55="사용자항목14", L55, 0) -> 0 | AQ55: =IF(P55="사용자항목15", L55, 0) -> 0 | AR55: =IF(P55="사용자항목16", L55, 0) -> 0 | AS55: =IF(P55="사용자항목17", L55, 0) -> 0 | AT55: =IF(P55="사용자항목18", L55, 0) -> 0 | AU55: =IF(P55="사용자항목19", L55, 0) -> 0
A56: 액자 | B56: 실사출력 및 액자 | C56: 개 | D56: 4 | E56: 400000 | F56: =ROUNDDOWN(D56*E56, 0) -> 1600000 | K56: =E56+G56+I56 -> 400000 | L56: =F56+H56+J56 -> 1600000
A68: 합 계 | F68: =SUM(F54:F67) -> 2916000 | H68: =ROUNDDOWN(SUMIF(Q54:Q67, "1", H54:H67), 0) -> 0 | J68: =ROUNDDOWN(SUMIF(Q54:Q67, "1", J54:J67), 0) -> 0 | L68: =F68+H68+J68 -> 2916000 | R68: =ROUNDDOWN(SUM(R54:R55), 0) -> 0 | S68: =ROUNDDOWN(SUM(S54:S55), 0) -> 0 | T68: =ROUNDDOWN(SUM(T54:T55), 0) -> 0 | U68: =ROUNDDOWN(SUM(U54:U55), 0) -> 0 | V68: =ROUNDDOWN(SUM(V54:V55), 0) -> 0 | W68: =ROUNDDOWN(SUM(W54:W55), 0) -> 0 | X68: =ROUNDDOWN(SUM(X54:X55), 0) -> 0 | Y68: =ROUNDDOWN(SUM(Y54:Y55), 0) -> 0 | ... AX68: =ROUNDDOWN(SUM(AX54:AX55), 0) -> 0

Sheet 일위대가목록
A1: 일 위 대 가 목 록
A2: 공사명 : 전략반도체특화 실증랩 전시공간
A3: 호 표 | B3: 품 명 | C3: 규 격 | D3: 단위 | E3: 수량 | F3: 재 료 비 | H3: 노 무 비 | J3: 경 비 | L3: 합 계 | N3: 비 고
F4: 단 가 | G4: 금 액 | H4: 단 가 | I4: 금 액 | J4: 단 가 | K4: 금 액 | L4: 단 가 | M4: 금 액 | O4: 손료요율 | P4: 손료구분 | Q4: 적용구분 | R4: 합계구분
A5: 일위 1호 | B5: 자재 소운반(15층 이하 기준) | D5: M2 | E5: 1 | F5: =일위대가표!F7 -> 0 | G5: =E5*F5 -> 0 | H5: =일위대가표!H7 -> 7449 | I5: =E5*H5 -> 7449 | J5: =일위대가표!J7 -> 0 | K5: =E5*J5 -> 0 | L5: =F5+H5+J5 -> 7449 | M5: =G5+I5+K5 -> 7449 | N5: 2023 실내건축협회
A6: 일위 2호 | B6: 목조칸막이벽설치 | C6: 외송각재, 70*70@450*600 | D6: M2 | E6: 1 | F6: =일위대가표!F15 -> 16779 | G6: =E6*F6 -> 16779 | H6: =일위대가표!H15 -> 35083 | I6: =E6*H6 -> 35083 | J6: =일위대가표!J15 -> 1052 | K6: =E6*J6 -> 1052 | L6: =F6+H6+J6 -> 52914 | M6: =G6+I6+K6 -> 52914 | N6: 건축4-2-2
A7: 일위 3호 | B7: 벽,MDF붙임 | C7: MDF포함 | D7: M2 | E7: 1 | F7: =일위대가표!F22 -> 4819 | G7: =E7*F7 -> 4819 | H7: =일위대가표!H22 -> 17541 | I7: =E7*H7 -> 17541 | J7: =일위대가표!J22 -> 350 | K7: =E7*J7 -> 350 | L7: =F7+H7+J7 -> 22710 | M7: =G7+I7+K7 -> 22710 | N7: 건축4-2-3
A8: 일위 4호 | B8: 석고보드 설치 | C8: 건식벽체, 1P, 3.6m 이하,일반, 방수, 차음, 방화 15mm이하 | D8: m2 | E8: 1 | F8: =일위대가표!F25 -> 70 | G8: =E8*F8 -> 70 | H8: =일위대가표!H25 -> 7012 | I8: =E8*H8 -> 7012 | J8: =일위대가표!J25 -> 0 | K8: =E8*J8 -> 0 | L8: =F8+H8+J8 -> 7082 | M8: =G8+I8+K8 -> 7082 | N8: 시장시공 2024-04-12
A9: 일위 5호 | B9: 걸레받이 설치 | C9: 합성수지/높이 75∼120㎜ | D9: m | E9: 1 | F9: =일위대가표!F28 -> 121 | G9: =E9*F9 -> 121 | H9: =일위대가표!H28 -> 2897 | I9: =E9*H9 -> 2897 | J9: =일위대가표!J28 -> 0 | K9: =E9*J9 -> 0 | L9: =F9+H9+J9 -> 3018 | M9: =G9+I9+K9 -> 3018 | N9: 건축표준시장(2024년상)
A10: 일위 6호 | B10: 천정몰딩설치 | C10: 55*12,랩핑몰딩 | D10: M | E10: 1 | F10: =일위대가표!F35 -> 2508 | G10: =E10*F10 -> 2508 | H10: =일위대가표!H35 -> 8523 | I10: =E10*H10 -> 8523 | J10: =일위대가표!J35 -> 340 | K10: =E10*J10 -> 340 | L10: =F10+H10+J10 -> 11371 | M10: =G10+I10+K10 -> 11371 | N10: 건축8-1-5
A11: 일위 7호 | B11: 디지털 사이니지 | C11: 비디오월 설치 | D11: 면 | E11: 1 | F11: =일위대가표!F41 -> 3105 | G11: =E11*F11 -> 3105 | H11: =일위대가표!H41 -> 103507 | I11: =E11*H11 -> 103507 | J11: =일위대가표!J41 -> 0 | K11: =E11*J11 -> 0 | L11: =F11+H11+J11 -> 106612 | M11: =G11+I11+K11 -> 106612 | N11: 통신9-4-17

Sheet 일위대가표
A1: 일 위 대 가 내 역 서
A2: 공사명 : 전략반도체특화 실증랩 전시공간
A3: 품 명 | B3: 규 격 | C3: 단위 | D3: 수 량 | E3: 재 료 비 | G3: 노 무 비 | I3: 경 비 | K3: 합 계 | M3: 비 고
E4: 단 가 | F4: 금 액 | G4: 단 가 | H4: 금 액 | I4: 단 가 | J4: 금 액 | K4: 단 가 | L4: 금 액 | N4: 손료요율 | O4: 손료구분 | P4: 적용구분 | Q4: 합계구분 | R4: 품목구분 | S4: 조달코드
A5: [일위 1호] - [자재 소운반(15층 이하 기준) M2] | M5: 2023 실내건축협회
A6: 보통인부 | B6: 일반공사 직종 | C6: 인 | D6: 0.045 | E6: 0 | F6: =ROUNDDOWN(D6*E6, 1) -> 0 | G6: =ROUNDDOWN(단가대비표!O14, 0) -> 165545 | H6: =ROUNDDOWN(D6*G6, 1) -> 7449.5 | I6: 0 | J6: =ROUNDDOWN(D6*I6, 1) -> 0 | K6: =E6+G6+I6 -> 165545 | L6: =F6+H6+J6 -> 7449.5 | O6: 02 | P6: 기계경비 | Q6: 1
A7: 합 계 | F7: =ROUNDDOWN(SUMIF(Q6:Q6, "1", F6:F6), 0) -> 0 | H7: =ROUNDDOWN(SUMIF(Q6:Q6, "1", H6:H6), 0) -> 7449 | J7: =ROUNDDOWN(SUMIF(Q6:Q6, "1", J6:J6), 0) -> 0 | L7: =F7+H7+J7 -> 7449
A9: [일위 2호] - [목조칸막이벽설치 외송각재, 70*70@450*600 M2] | M9: 건축4-2-2
A10: 각재 | B10: 각재, 외송 | C10: 재 | D10: 9.09 | E10: =ROUNDDOWN(단가대비표!O5, 0) -> 1758 | F10: =ROUNDDOWN(D10*E10, 1) -> 15980.2 | G10: 0 | H10: =ROUNDDOWN(D10*G10, 1) -> 0 | I10: 0 | J10: =ROUNDDOWN(D10*I10, 1) -> 0 | K10: =E10+G10+I10 -> 1758 | L10: =F10+H10+J10 -> 15980.2 | O10: 01 | P10: 기계경비 | Q10: 1
A11: 잡재료비 | B11: ="주재료비의 " & N11*100 & "%" -> 주재료비의 5% | C11: 식 | D11: 1 | E11: =SUMIF(O10:O14, "01", F10:F14) -> 15980.2 | F11: =ROUNDDOWN((E11)*N11, 1) -> 799 | G11: 0 | H11: 0 | I11: 0 | J11: 0 | K11: =E11+G11+I11 -> 15980.2 | L11: =F11+H11+J11 -> 799 | N11: 0.05 | P11: 기계경비 | Q11: 1 | R11: 20 | S11: A0100000000
A12: 건축목공 | B12: 일반공사 직종 | C12: 인 | D12: 0.1 | E12: 0 | F12: =ROUNDDOWN(D12*E12, 1) -> 0 | G12: =ROUNDDOWN(단가대비표!O12, 0) -> 268058 | H12: =ROUNDDOWN(D12*G12, 1) -> 26805.8 | I12: 0 | J12: =ROUNDDOWN(D12*I12, 1) -> 0 | K12: =E12+G12+I12 -> 268058 | L12: =F12+H12+J12 -> 26805.8 | O12: 02 | P12: 기계경비 | Q12: 1
A13: 보통인부 | B13: 일반공사 직종 | C13: 인 | D13: 0.05 | E13: 0 | F13: =ROUNDDOWN(D13*E13, 1) -> 0 | G13: =ROUNDDOWN(단가대비표!O14, 0) -> 165545 | H13: =ROUNDDOWN(D13*G13, 1) -> 8277.2 | I13: 0 | J13: =ROUNDDOWN(D13*I13, 1) -> 0 | K13: =E13+G13+I13 -> 165545 | L13: =F13+H13+J13 -> 8277.2 | O13: 02 | P13: 기계경비 | Q13: 1
A14: 공구손료 및 경장비의 기계경비 | B14: ="인력품의 " & N14*100 & "%" -> 인력품의 3% | C14: 식 | D14: 1 | E14: 0 | F14: 0 | G14: 0 | H14: 0 | I14: =SUMIF(O10:O14, "02", H10:H14) -> 35083 | J14: =ROUNDDOWN((I14)*N14, 1) -> 1052.4 | K14: =E14+G14+I14 -> 35083 | L14: =F14+H14+J14 -> 1052.4 | N14: 0.03 | P14: 기계경비 | Q14: 1 | R14: 25 | S14: A0200000000
A15: 합 계 | F15: =ROUNDDOWN(SUMIF(Q10:Q14, "1", F10:F14), 0) -> 16779 | H15: =ROUNDDOWN(SUMIF(Q10:Q14, "1", H10:H14), 0) -> 35083 | J15: =ROUNDDOWN(SUMIF(Q10:Q14, "1", J10:J14), 0) -> 1052 | L15: =F15+H15+J15 -> 52914
A17: [일위 3호] - [벽,MDF붙임 MDF포함 M2] | M17: 건축4-2-3
A18: 중밀도섬유판 | B18: 중밀도섬유판, 9.0×1220×2440mm | C18: ㎡ | D18: 1.03 | E18: =ROUNDDOWN(단가대비표!O10, 0) -> 4679 | F18: =ROUNDDOWN(D18*E18, 1) -> 4819.3 | G18: 0 | H18: =ROUNDDOWN(D18*G18, 1) -> 0 | I18: 0 | J18: =ROUNDDOWN(D18*I18, 1) -> 0 | K18: =E18+G18+I18 -> 4679 | L18: =F18+H18+J18 -> 4819.3 | O18: 01 | P18: 기계경비 | Q18: 1
A19: 건축목공 | B19: 일반공사 직종 | C19: 인 | D19: 0.05 | E19: 0 | F19: =ROUNDDOWN(D19*E19, 1) -> 0 | G19: =ROUNDDOWN(단가대비표!O12, 0) -> 268058 | H19: =ROUNDDOWN(D19*G19, 1) -> 13402.9 | I19: 0 | J19: =ROUNDDOWN(D19*I19, 1) -> 0 | K19: =E19+G19+I19 -> 268058 | L19: =F19+H19+J19 -> 13402.9 | O19: 02 | P19: 기계경비 | Q19: 1
A20: 보통인부 | B20: 일반공사 직종 | C20: 인 | D20: 0.025 | E20: 0 | F20: =ROUNDDOWN(D20*E20, 1) -> 0 | G20: =ROUNDDOWN(단가대비표!O14, 0) -> 165545 | H20: =ROUNDDOWN(D20*G20, 1) -> 4138.6 | I20: 0 | J20: =ROUNDDOWN(D20*I20, 1) -> 0 | K20: =E20+G20+I20 -> 165545 | L20: =F20+H20+J20 -> 4138.6 | O20: 02 | P20: 기계경비 | Q20: 1
A21: 공구손료 및 경장비의 기계경비 | B21: ="인력품의 " & N21*100 & "%" -> 인력품의 2% | C21: 식 | D21: 1 | E21: 0 | F21: 0 | G21: 0 | H21: 0 | I21: =SUMIF(O18:O21, "02", H18:H21) -> 17541.5 | J21: =ROUNDDOWN((I21)*N21, 1) -> 350.8 | K21: =E21+G21+I21 -> 17541.5 | L21: =F21+H21+J21 -> 350.8 | N21: 0.02 | P21: 기계경비 | Q21: 1 | R21: 25 | S21: A0200000000
A22: 합 계 | F22: =ROUNDDOWN(SUMIF(Q18:Q21, "1", F18:F21), 0) -> 4819 | H22: =ROUNDDOWN(SUMIF(Q18:Q21, "1", H18:H21), 0) -> 17541 | J22: =ROUNDDOWN(SUMIF(Q18:Q21, "1", J18:J21), 0) -> 350 | L22: =F22+H22+J22 -> 22710
A24: [일위 4호] - [석고보드 설치 건식벽체, 1P, 3.6m 이하,일반, 방수, 차음, 방화 15mm이하 m2] | M24: 시장시공 2024-04-12
A25: 합 계 | F25: 70 | H25: 7012 | J25: 0 | L25: 7082
A27: [일위 5호] - [걸레받이 설치 합성수지/높이 75∼120㎜ m] | M27: 건축표준시장(2024년상)
A28: 합 계 | F28: 121 | H28: 2897 | J28: 0 | L28: 3018
A30: [일위 6호] - [천정몰딩설치 55*12,랩핑몰딩 M] | M30: 건축8-1-5
A31: 천장몰딩 | B31: 55*12,랩핑 | C31: M | D31: 1.1 | E31: =ROUNDDOWN(단가대비표!O11, 0) -> 2172 | F31: =ROUNDDOWN(D31*E31, 1) -> 2389.2 | G31: 0 | H31: =ROUNDDOWN(D31*G31, 1) -> 0 | I31: 0 | J31: =ROUNDDOWN(D31*I31, 1) -> 0 | K31: =E31+G31+I31 -> 2172 | L31: =F31+H31+J31 -> 2389.2 | O31: 01 | P31: 기계경비 | Q31: 1
A32: 잡재료비 | B32: ="주재료비의 " & N32*100 & "%" -> 주재료비의 5% | C32: 식 | D32: 1 | E32: =SUMIF(O31:O34, "01", F31:F34) -> 2389.2 | F32: =ROUNDDOWN((E32)*N32, 1) -> 119.4 | G32: 0 | H32: 0 | I32: 0 | J32: 0 | K32: =E32+G32+I32 -> 2389.2 | L32: =F32+H32+J32 -> 119.4 | N32: 0.05 | P32: 기계경비 | Q32: 1 | R32: 20 | S32: A0100000000
A33: 내장공 | B33: 일반공사 직종 | C33: 인 | D33: 0.035 | E33: 0 | F33: =ROUNDDOWN(D33*E33, 1) -> 0 | G33: =ROUNDDOWN(단가대비표!O13, 0) -> 243538 | H33: =ROUNDDOWN(D33*G33, 1) -> 8523.8 | I33: 0 | J33: =ROUNDDOWN(D33*I33, 1) -> 0 | K33: =E33+G33+I33 -> 243538 | L33: =F33+H33+J33 -> 8523.8 | O33: 02 | P33: 기계경비 | Q33: 1
A34: 공구손료 및 경장비의 기계경비 | B34: ="인력품의 " & N34*100 & "%" -> 인력품의 4% | C34: 식 | D34: 1 | E34: 0 | F34: 0 | G34: 0 | H34: 0 | I34: =SUMIF(O31:O34, "02", H31:H34) -> 8523.8 | J34: =ROUNDDOWN((I34)*N34, 1) -> 340.9 | K34: =E34+G34+I34 -> 8523.8 | L34: =F34+H34+J34 -> 340.9 | N34: 0.04 | P34: 기계경비 | Q34: 1 | R34: 25 | S34: A0200000000
A35: 합 계 | F35: =ROUNDDOWN(SUMIF(Q31:Q34, "1", F31:F34), 0) -> 2508 | H35: =ROUNDDOWN(SUMIF(Q31:Q34, "1", H31:H34), 0) -> 8523 | J35: =ROUNDDOWN(SUMIF(Q31:Q34, "1", J31:J34), 0) -> 340 | L35: =F35+H35+J35 -> 11371
A37: [일위 7호] - [디지털 사이니지 비디오월 설치 면] | M37: 통신9-4-17
A38: 통신관련산업기사 | B38: 기타 직종 | C38: 인 | D38: 0.14 | E38: 0 | F38: =ROUNDDOWN(D38*E38, 1) -> 0 | G38: =ROUNDDOWN(단가대비표!O15, 0) -> 294019 | H38: =ROUNDDOWN(D38*G38, 1) -> 41162.6 | I38: 0 | J38: =ROUNDDOWN(D38*I38, 1) -> 0 | K38: =E38+G38+I38 -> 294019 | L38: =F38+H38+J38 -> 41162.6 | O38: 02 | P38: 기계경비 | Q38: 1
A39: 통신설비공 | B39: 일반공사 직종 | C39: 인 | D39: 0.21 | E39: 0 | F39: =ROUNDDOWN(D39*E39, 1) -> 0 | G39: =ROUNDDOWN(단가대비표!O16, 0) -> 296882 | H39: =ROUNDDOWN(D39*G39, 1) -> 62345.2 | I39: 0 | J39: =ROUNDDOWN(D39*I39, 1) -> 0 | K39: =E39+G39+I39 -> 296882 | L39: =F39+H39+J39 -> 62345.2 | O39: 02 | P39: 기계경비 | Q39: 1
A40: 공구손료 | B40: ="인력품의 " & N40*100 & "%" -> 인력품의 3% | C40: 식 | D40: 1 | E40: =SUMIF(O38:O40, "02", H38:H40) -> 103507.8 | F40: =ROUNDDOWN((E40)*N40, 1) -> 3105.2 | G40: 0 | H40: 0 | I40: 0 | J40: 0 | K40: =E40+G40+I40 -> 103507.8 | L40: =F40+H40+J40 -> 3105.2 | N40: 0.03 | P40: 기계경비 | Q40: 1 | R40: 23 | S40: A0200000000
A41: 합 계 | F41: =ROUNDDOWN(SUMIF(Q38:Q40, "1", F38:F40), 0) -> 3105 | H41: =ROUNDDOWN(SUMIF(Q38:Q40, "1", H38:H40), 0) -> 103507 | J41: =ROUNDDOWN(SUMIF(Q38:Q40, "1", J38:J40), 0) -> 0 | L41: =F41+H41+J41 -> 106612

Sheet 단가대비표
A1: 단 가 대 비 표
A2: 공사명 : 전략반도체특화 실증랩 전시공간
A3: 품 명 | B3: 규 격 | C3: 단위 | D3: 물가자료 | F3: 물가정보 | H3: 가격정보 | I3: 거래가격 | K3: 유통물가 | M3: 상반기 | N3: 조사단가 | O3: 적용단가 | P3: 비 고
D4: 단가 | E4: Page | F4: 단가 | G4: Page | H4: 단가 | I4: 단가 | J4: Page | K4: 단가 | L4: Page | M4: 단가 | N4: 단가
A5: 각재 | B5: 각재, 외송 | C5: 재 | D5: 2400 | E5: 98 | F5: 2790 | G5: 129(2205) | H5: 1758 | I5: 1820 | J5: 149 | K5: 2059 | L5: 73 | O5: =MIN(D5,F5,H5,I5,K5,M5,N5) -> 1758
A6: 문화재보호시설 | B6: 아크릴스카시, H:100(도장/취부 포함) | C6: 문자 | D6: 53000 | E6: 580(2401) | O6: =MIN(D6,F6,H6,I6,K6,M6,N6) -> 53000
A7: 문화재보호시설 | B7: 컷팅쉬트(문자,이미지포함), 시공비포함(고소작업 제외) | C7: M2 | D7: 150000 | E7: 580 | O7: =MIN(D7,F7,H7,I7,K7,M7,N7) -> 150000
A8: 석고보드 | B8: 석고보드, 평보드, 9.5×900×1800mm(매) | C8: 매 | D8: 4700 | E8: 667 | F8: 5000 | G8: 579 | H8: 4700 | I8: 4700 | J8: 675 | K8: 5148 | L8: 408 | O8: =MIN(D8,F8,H8,I8,K8,M8,N8) -> 4700
A9: 인테리어마감재 | B9: 무늬목, 시공비/부자재포함 | C9: M2 | F9: 38000 | G9: 624 | I9: 38000 | J9: 677(2203) | O9: =MIN(D9,F9,H9,I9,K9,M9,N9) -> 38000
A10: 중밀도섬유판 | B10: 중밀도섬유판, 9.0×1220×2440mm | C10: ㎡ | D10: 5475 | E10: 669 | F10: 5408 | G10: 579 | H10: 4679 | I10: 6281 | J10: 672 | K10: 5307 | L10: 409 | O10: =MIN(D10,F10,H10,I10,K10,M10,N10) -> 4679
A11: 천장몰딩 | B11: 55*12,랩핑 | C11: M | D11: 2172 | E11: 563 | O11: =MIN(D11,F11,H11,I11,K11,M11,N11) -> 2172
A12: 건축목공 | B12: 일반공사 직종 | C12: 인 | M12: 268058 | O12: =M12 -> 268058
A13: 내장공 | B13: 일반공사 직종 | C13: 인 | M13: 243538 | O13: =M13 -> 243538
A14: 보통인부 | B14: 일반공사 직종 | C14: 인 | M14: 165545 | O14: =M14 -> 165545
A15: 통신관련산업기사 | B15: 기타 직종 | C15: 인 | M15: 294019 | O15: =M15 -> 294019
A16: 통신설비공 | B16: 일반공사 직종 | C16: 인 | M16: 296882 | O16: =M16 -> 296882

Sheet Sheet1
