Workbook
Name _10_0\LA: [1]내역서!#REF!
Name _15_0\MID: [1]내역서!#REF!
Name _20_0\SM: [1]내역서!#REF!
Name _25_0ME: [1]내역서!#REF!
Name _30_0ME: [1]내역서!#REF!
Name _35_3_0Crite: #REF!
Name _40_3_0Criteria: #REF!
Name _45G_0Extr: #REF!
Name _5_0: [2]예가표!#REF!
Name _50G_0Extract: #REF!
Name RR: #REF!
Name 공내역: #REF!
Name 공종보기: [15]!공종보기
Name 기기: #REF!
Name ㄴㅇㄹ: [2]예가표!#REF!
Name 노임집계: IF(#REF!=직종4,"F",IF(#REF!=직종5,"G",IF(#REF!=직종6,"H",IF(#REF!=직종7,"I",IF(#REF!=직종8,"J","오류")))))
Name 데이터: OFFSET(#REF!,,,COUNTA(#REF!)-1,9)
Name ㅁㄴㄹ: [1]내역서!#REF!
Name 성명: OFFSET(#REF!,,,COUNTA(#REF!)-1)
Name 정정: #REF!
Name 직종1: #REF!
Name 직종2: #REF!
Name 직종3: #REF!
Name 직종4: #REF!
Name 직종5: #REF!
Name 직종6: #REF!
Name 직종7: #REF!
Name 직종8: #REF!
Name 청천200: #REF!

Sheet 공종별내역서
A1: [ 구미 과학관 부분보수(방수) 공사 ]
A2: 품 명 | B2: 규 격 | C2: 단위 | D2: 수량 | E2: 재 료 비 | G2: 노 무 비 | I2: 경 비 | K2: 합 계 | M2: 재 료 비 | O2: 노 무 비 | Q2: 경 비 | S2: 합 계 | U2: 비 고 | V2: 품목코드 | W2: 변수 | X2: 설정 | Y2: 공종코드 | Z2: 일위 | AA2: 단산 | AB2: 자재 | AC2: 손료적용 | AD2: 손료저장 | AE2: 적용율 | AF2: JUK1 | AG2: JUK2 | AH2: JUK3 | AI2: JUK4 | AJ2: JUK5 | AK2: JUK6 | AL2: JUK7 | AM2: JUK8 | AN2: JUK9 | AO2: JUK10 | AP2: JUK11 | AQ2: JUK12 | AR2: JUK13 | AS2: JUK14 | AT2: JUK15 | AU2: JUK16 | AV2: JUK17 | AW2: JUK18 | AX2: JUK19 | AY2: JUK20 | AZ2: 자재구분 | BA2: 공종구분 | BB2: 공종레벨 | BC2: 공종+자재 | BD2: 고유번호
E3: 단 가 | F3: 금 액 | G3: 단 가 | H3: 금 액 | I3: 단 가 | J3: 금 액 | K3: 단 가 | L3: 금 액 | M3: 단 가 | N3: 금 액 | O3: 단 가 | P3: 금 액 | Q3: 단 가 | R3: 금 액 | S3: 단 가 | T3: 금 액
A4: 01. 가설공사 | C4: 1 | D4: 식 | M4: =TRUNC(일위대가목록!E4,0) -> 0 | N4: =TRUNC(M4*D4,0) -> #VALUE! | O4: =TRUNC(일위대가목록!F4,0) -> 4938 | P4: =TRUNC(O4*D4,0) -> #VALUE! | Q4: =TRUNC(일위대가목록!G4,0) -> 0 | R4: =TRUNC(Q4*D4,0) -> #VALUE! | S4: =TRUNC(M4+O4+Q4,0) -> 4938 | T4: =TRUNC(N4+P4+R4,0) -> #VALUE! | V4: 5E39A488D1687C3D83B6DFE55EC01C | Y4: 0104 | Z4: T | AA4: F | AB4: F | BC4: 01045E39A488D1687C3D83B6DFE55EC01C | BD4: 65
A5: 현장정리 | B5: 개보수,보통인부 | C5: 인 | D5: 2 | M5: =TRUNC(단가대비표!O5,0) -> 0 | N5: =TRUNC(M5*D5,0) -> 0 | O5: =TRUNC(단가대비표!P5,0) -> 0 | P5: =TRUNC(O5*D5,0) -> 0 | Q5: =TRUNC(단가대비표!V5,0) -> 550000 | R5: =TRUNC(Q5*D5,0) -> 1100000 | S5: =TRUNC(M5+O5+Q5,0) -> 550000 | T5: =TRUNC(N5+P5+R5,0) -> 1100000 | V5: 591C344181652DE18A6226655C542FDC259C36 | Y5: 0104 | Z5: F | AA5: F | AB5: T | BC5: 0104591C344181652DE18A6226655C542FDC259C36 | BD5: 35
A6: 고소작업차 | B6: 5 TON | C6: HR | D6: 20 | M6: =일위대가목록!E6 -> 9063.9 | N6: =M6*D6 -> 181278 | O6: =일위대가목록!F6 -> 44299 | P6: =O6*D6 -> 885980 | Q6: =일위대가목록!G6 -> 54110.8 | R6: =Q6*D6 -> 1082216 | S6: =TRUNC(M6+O6+Q6,0) -> 107473 | T6: =TRUNC(N6+P6+R6,0) -> 2149474
M7: =일위대가목록!E5 -> 31695 | N7: =TRUNC(M7*D7,0) -> 0 | O7: =일위대가목록!F5 -> 26977.6 | P7: =TRUNC(O7*D7,0) -> 0 | Q7: =일위대가목록!G5 -> 0 | R7: =TRUNC(Q7*D7,0) -> 0 | S7: =일위대가목록!H5 -> 58672.6 | T7: =TRUNC(N7+P7+R7,0) -> 0 | V7: 5F25145C3169D3CC8AC4190B5AC9F69878B73C | Y7: 0104 | Z7: F | AA7: F | AB7: T | BC7: 01045F25145C3169D3CC8AC4190B5AC9F69878B73C | BD7: 57
A8: 02. 방수공사 | C8: 1 | D8: 식 | M8: =일위대가목록!E7 -> 5205.6 | N8: =TRUNC(M8*D8,0) -> #VALUE! | O8: =일위대가목록!F7 -> 4696 | P8: =TRUNC(O8*D8,0) -> #VALUE! | Q8: =일위대가목록!G7 -> 0 | R8: =TRUNC(Q8*D8,0) -> #VALUE! | S8: =일위대가목록!H7 -> 9901.6 | T8: =TRUNC(N8+P8+R8,0) -> #VALUE!
A9: 돔 외부 코킹 | B9: 우레탄씰란트 | C9: M | D9: 300
A10: 내,외부 창틀 코킹 | B10: 실리콘 | C10: M | D10: 500
A11: 지하 고압주입 방수 | B11: 지수주입제 | C11: M2 | D11: 2
A13: 03. 도장공사 | C13: 1 | D13: 식
A14: 재도장 시 바탕처리(콘크리트,모르타르면) | C14: M2 | D14: 4
A15: 수성페인트 로울러칠 | C15: M2 | D15: 4
A20: [ 합 계 ] | N20: =SUM(N4:N19) -> #VALUE! | P20: =SUM(P4:P19) -> #VALUE! | R20: =SUM(R4:R19) -> #VALUE! | T20: =SUM(T4:T19) -> #VALUE! | V20: TOTAL

Sheet 일위대가목록
A1: 일 위 대 가 목 록
A2: [ 본청 등 방수 및 보수공사 ]
A3: 코 드 | B3: 품 명 | C3: 규 격 | D3: 단위 | E3: 재 료 비 | F3: 노 무 비 | G3: 경 비 | H3: 합 계 | I3: 번 호 | J3: 비 고 | K3: 노임계수 | L3: 할증 | M3: 품셈개요 | N3: 장비일위
A4: 5E39A488D1687C3D83B6DFE55EC01C | B4: 건축물 현장정리 | C4: 보수 | D4: M2 | E4: =일위대가!F6 -> 0 | F4: =일위대가!H6 -> 4938 | G4: =일위대가!J6 -> 0 | H4: =E4+F4+G4 -> 4938 | I4: 호표 1
B5: PVC 부착 복합방수 | D5: M2 | E5: =일위대가!F20 -> 31695 | F5: =일위대가!H20 -> 26977.6 | G5: =일위대가!J20 -> 0 | H5: =일위대가!L20 -> 58672.6 | I5: 호표 2
B6: 크레인(타이어) | C6: 25ton | D6: HR | E6: =일위대가!F27 -> 9063.9 | F6: =일위대가!H27 -> 44299 | G6: =일위대가!J27 -> 54110.8 | H6: =일위대가!L27 -> 107473.7 | I6: 호표 3
B7: 수밀코킹 | C7: 폴리우레탄,콘크리트 조인트 | D7: M | E7: =일위대가!F32 -> 5205.6 | F7: =일위대가!H32 -> 4696 | G7: =일위대가!J32 -> 0 | H7: =일위대가!L32 -> 9901.6 | I7: 호표 4

Sheet 일위대가
A1: [ 본청 등 방수 및 보수공사 ]
A2: 품 명 | B2: 규 격 | C2: 단위 | D2: 수량 | E2: 재 료 비 | G2: 노 무 비 | I2: 경 비 | K2: 합 계 | M2: 비 고 | N2: 일위대가 | O2: 품목코드 | P2: 일위 | Q2: 단산 | R2: 자재 | S2: 손료적용 | T2: 손료저장 | U2: 적용율 | V2: JUK1 | W2: JUK2 | X2: JUK3 | Y2: JUK4 | Z2: JUK5 | AA2: JUK6 | AB2: JUK7 | AC2: JUK8 | AD2: JUK9 | AE2: JUK10 | AF2: JUK11 | AG2: JUK12 | AH2: JUK13 | AI2: JUK14 | AJ2: JUK15 | AK2: JUK16 | AL2: JUK17 | AM2: JUK18 | AN2: JUK19 | AO2: JUK20 | AP2: 할증적용 | AQ2: 할증저장 | AR2: 할증율 | AS2: HAL1 | AT2: HAL2 | AU2: HAL3 | AV2: 자재구분 | AW2: 일위대가+자재 | AX2: 장비일위 | AY2: 설정
E3: 단 가 | F3: 금 액 | G3: 단 가 | H3: 금 액 | I3: 단 가 | J3: 금 액 | K3: 단 가 | L3: 금 액
A4: 건축물 현장정리 보수 M2 ( 호표 1 ) | N4: 5E39A488D1687C3D83B6DFE55EC01C
A5: 보통인부 | B5: 일반공사 직종 | C5: 인 | D5: 0.035 | E5: =단가대비표!O6 -> 0 | F5: =TRUNC(E5*D5,1) -> 0 | G5: 141096 | H5: =TRUNC(G5*D5,1) -> 4938.3 | I5: =단가대비표!V6 -> 0 | J5: =TRUNC(I5*D5,1) -> 0 | K5: =TRUNC(E5+G5+I5,1) -> 141096 | L5: =TRUNC(F5+H5+J5,1) -> 4938.3 | N5: 5E39A488D1687C3D83B6DFE55EC01C | O5: 5EEF6424E16AB78E89EC581B56F476537BBB01 | P5: F | Q5: F | R5: T | AW5: 5E39A488D1687C3D83B6DFE55EC01C5EEF6424E16AB78E89EC581B56F476537BBB01
A6: [ 합 계 ] | F6: =TRUNC(SUMIF(N5:N5,N4,F5:F5),0) -> 0 | H6: =TRUNC(SUMIF(N5:N5,N4,H5:H5),0) -> 4938 | J6: =TRUNC(SUMIF(N5:N5,N4,J5:J5),0) -> 0 | L6: =F6+H6+J6 -> 4938 | N6: TOTAL | O6: TOTAL
A8: PVC부착복합방수 M2 (물가정보 부록 P83)
A9: ET시트 | B9: T=20, 1M*30M | C9: ㎡ | D9: 1.05 | E9: 12500 | F9: =TRUNC(E9*D9,1) -> 13125 | K9: =TRUNC(E9+G9+I9,1) -> 12500 | L9: =TRUNC(F9+H9+J9,1) -> 13125
A10: ET프라이머 | B10: 접착용 18KG | C10: KG | D10: 0.2 | E10: 4100 | F10: =TRUNC(E10*D10,1) -> 820 | K10: =TRUNC(E10+G10+I10,1) -> 4100 | L10: =TRUNC(F10+H10+J10,1) -> 820
A11: ET우레탄 | B11: 하부도막제 | C11: KG | D11: 0.8 | E11: 5500 | F11: =TRUNC(E11*D11,1) -> 4400 | K11: =TRUNC(E11+G11+I11,1) -> 5500 | L11: =TRUNC(F11+H11+J11,1) -> 4400
A12: ET우레탄 | B12: 조인트, 중도도막재 | C12: KG | D12: 1.5 | E12: 5500 | F12: =TRUNC(E12*D12,1) -> 8250 | K12: =TRUNC(E12+G12+I12,1) -> 5500 | L12: =TRUNC(F12+H12+J12,1) -> 8250
A13: ET우레탄탑코트 | B13: 상도재 | C13: KG | D13: 0.4 | E13: 6800 | F13: =TRUNC(E13*D13,1) -> 2720 | K13: =TRUNC(E13+G13+I13,1) -> 6800 | L13: =TRUNC(F13+H13+J13,1) -> 2720
A14: 희석재 | B14: 18L | C14: L | D14: 0.2 | E14: 1600 | F14: =TRUNC(E14*D14,1) -> 320 | K14: =TRUNC(E14+G14+I14,1) -> 1600 | L14: =TRUNC(F14+H14+J14,1) -> 320
A15: 규사 | B15: 30KG | C15: KG | D15: 1 | E15: 700 | F15: =TRUNC(E15*D15,1) -> 700 | K15: =TRUNC(E15+G15+I15,1) -> 700 | L15: =TRUNC(F15+H15+J15,1) -> 700
A16: 보강테이프 | B16: 바닥 | C16: M | D16: 1.2 | E16: 550 | F16: =TRUNC(E16*D16,1) -> 660 | K16: =TRUNC(E16+G16+I16,1) -> 550 | L16: =TRUNC(F16+H16+J16,1) -> 660
A17: 탈기관 | C17: 개 | D17: 0.01 | E17: 70000 | F17: =TRUNC(E17*D17,1) -> 700 | K17: =TRUNC(E17+G17+I17,1) -> 70000 | L17: =TRUNC(F17+H17+J17,1) -> 700
A18: 방수공 | B18: 전문공사 직종 | C18: 인 | D18: 0.09 | G18: 174334 | H18: =TRUNC(G18*D18,1) -> 15690 | K18: =TRUNC(E18+G18+I18,1) -> 174334 | L18: =TRUNC(F18+H18+J18,1) -> 15690
A19: 보통인부 | B19: 일반공사 직종 | C19: 인 | D19: 0.08 | G19: 141096 | H19: =TRUNC(G19*D19,1) -> 11287.6 | K19: =TRUNC(E19+G19+I19,1) -> 141096 | L19: =TRUNC(F19+H19+J19,1) -> 11287.6
A20: [ 합 계 ] | F20: =SUM(F9:F19) -> 31695 | H20: =SUM(H9:H19) -> 26977.6 | J20: =SUM(J9:J19) -> 0 | L20: =F20+H20+J20 -> 58672.6 | N20: TOTAL | O20: TOTAL
A22: 크레인(타이어) HR (21년 상반기 군공통 일위대가)
A23: 크레인(타이어) | B23: 25ton | C23: 대 | D23: 0.2057 | I23: 263057 | J23: =TRUNC(I23*D23,1) -> 54110.8 | K23: =TRUNC(E23+G23+I23,1) -> 263057 | L23: =TRUNC(F23+H23+J23,1) -> 54110.8
A24: 경유 | B24: 경유, 저유황 | C24: L | D24: 6.1 | E24: 1069 | F24: =TRUNC(E24*D24,1) -> 6520.9 | K24: =TRUNC(E24+G24+I24,1) -> 1069 | L24: =TRUNC(F24+H24+J24,1) -> 6520.9
A25: 잡재료 | B25: 주연료비의 39% | C25: 식 | D25: 1 | E25: 2543 | F25: =TRUNC(E25*D25,1) -> 2543 | K25: =TRUNC(E25+G25+I25,1) -> 2543 | L25: =TRUNC(F25+H25+J25,1) -> 2543
A26: 건설기계운전사 | B26: 일본공사 직종 | C26: 인 | D26: 1 | G26: 44299 | H26: =TRUNC(G26*D26,1) -> 44299 | K26: =TRUNC(E26+G26+I26,1) -> 44299 | L26: =TRUNC(F26+H26+J26,1) -> 44299
A27: [ 합 계 ] | F27: =SUM(F23:F26) -> 9063.9 | H27: =SUM(H23:H26) -> 44299 | J27: =SUM(J23:J26) -> 54110.8 | L27: =F27+H27+J27 -> 107473.7 | N27: TOTAL | O27: TOTAL
A29: 수밀코킹(50*20mm) 폴리우레탄, 콘크리트죠인트 M (21년 상반기 군건축 일위대가)
A30: 실링재 | B30: 실링재, 폴리우레탄 | C30: L | D30: 1.2 | E30: 4338 | F30: 5205.6 | K30: 4338 | L30: 5205.6 | M30: -
A31: 수밀코킹 | B31: 재료비 별도 | C31: M | D31: 1 | G31: 4696 | H31: 4696 | K31: 4696 | L31: 4696 | M31: -
A32: [ 합 계 ] | F32: =SUM(F30:F31) -> 5205.6 | H32: =SUM(H30:H31) -> 4696 | J32: =SUM(J30:J31) -> 0 | L32: =F32+H32+J32 -> 9901.6 | N32: TOTAL | O32: TOTAL

Sheet 중기단가목록
A1: 중 기 단 가 목 록
A2: [ 본청 등 방수 및 보수공사 ]
A3: 코 드 | B3: 품 명 | C3: 규 격 | D3: 단위 | E3: 재 료 비 | F3: 노 무 비 | G3: 경 비 | H3: 합 계 | I3: 번 호 | J3: 비 고 | K3: START

Sheet 중기단가산출서
A1: 중 기 단 가 산 출 서
A2: [ 본청 등 방수 및 보수공사 ]
A3: 산 출 내 역 | B3: 재 료 비 | C3: 노 무 비 | D3: 경 비 | E3: 합 계 | F3: 비 고 | G3: START | H3: 코드 | I3: 품명 | J3: 규격 | K3: 단위 | L3: 수량
A4: ( )
A6: 총 계 | E6: 0

Sheet 단가대비표
A1: 단 가 대 비 표
A2: [ 본청 등 방수 및 보수공사 ]
A3: 코 드 | B3: 품 명 | C3: 규격 | D3: 단위 | E3: 재 료 비 | P3: 노 무 비 | Q3: 경 비 | W3: 번 호 | X3: 비 고 | Y3: 품목구분 | Z3: 노임구분 | AA3: 소수점처리 | AB3: 자재구분
E4: 조달청가격 | F4: PAGE | G4: 거래가격 | H4: PAGE | I4: 유통물가 | J4: PAGE | K4: 조사가격1 | L4: PAGE | M4: 조사가격2 | N4: PAGE | O4: 적용단가 | Q4: 조달청가격 | R4: 거래가격 | S4: 유통물가 | T4: 조사가격1 | U4: 조사가격2 | V4: 적용단가
A5: 591C344181652DE18A6226655C542FDC259C36 | B5: 스카이임대료 | C5: 5톤 | D5: 일 | E5: 0 | G5: 0 | H5: 1266 | I5: 0 | K5: 0 | M5: 0 | O5: 0 | P5: 0 | Q5: 0 | R5: 550000 | S5: 0 | T5: 0 | U5: 0 | V5: =SMALL(Q5:U5,COUNTIF(Q5:U5,0)+1) -> 550000 | W5: 자재 8
A6: 5EEF6424E16AB78E89EC581B56F476537BBB01 | B6: 보통인부 | C6: 일반공사 직종 | D6: 인 | E6: 0 | G6: 0 | I6: 0 | K6: 0 | M6: 0 | O6: 0 | P6: 138989 | Q6: 0 | R6: 0 | S6: 0 | T6: 0 | U6: 0 | V6: 0 | W6: 노임 1 | Y6: B
A7: 5F25145C3169D3CC8AC4190B5AC9F69878B616 | B7: EPDM방수마감 철거 | D7: M2 | E7: 0 | G7: 0 | I7: 0 | K7: 0 | M7: 18000 | O7: =SMALL(E7:M7,COUNTIF(E7:M7,0)+1) -> 18000 | P7: 0 | Q7: 0 | R7: 0 | S7: 0 | T7: 0 | U7: 0 | V7: 0 | W7: 자재 12 | X7: 견적단가
A8: 5F25145C3169D3CC8AC4190B5AC9F69878B73C | B8: EPDM방수마감 | D8: M2 | E8: 0 | G8: 0 | I8: 0 | K8: 0 | M8: 52500 | O8: =SMALL(E8:M8,COUNTIF(E8:M8,0)+1) -> 52500 | P8: 0 | Q8: 0 | R8: 0 | S8: 0 | T8: 0 | U8: 0 | V8: 0 | W8: 자재 13 | X8: 견적단가

Sheet  공사설정 
A1: 이 Sheet는 수정하지 마십시요
A2: 공사구분 | B2: A | C2: 타이틀
A3: 확정내역 | B3: 원내역
A4: 자재단가적용 | B4: 5
A5: 경비단가적용 | B5: 5
A6: 품목코드형식 | B6: XXXX-XXXX-XXXXXXXXX
A7: 내역금액소수점처리 | B7: C | C7: T
A8: 일위대가내역소수점처리 | B8: C | C8: 2
A9: 단가명 | B9: 조달청가격 | C9: 거래가격 | D9: 유통물가 | E9: 조사가격1 | F9: 조사가격2 | G9: TTTTT
A10: 환율 | B10: 1157 | C10: 0 | D10: 0
A11: 시간당작업량 | B11: R | C11: 4
A12: 1회 사이클시간 | B12: R | C12: 4
A13: 시간당 작업사이클 | B13: R | C13: 3
A14: 일반변수 | B14: C | C14: 5
A15: 시간당 노임산출 계수 | B15: A | C15: 1/8*16/12*25/20 | D15: 1/8*16/12*25/20 | E15: 1/8*16/12*25/20 | F15: 1
A16: 재료비 할증 계수 | B16: 1.11 | C16: 1.12
A17: 노무비 할증 계수 | B17: 1 | C17: 1.5 | D17: 1.16 | E17: 1.6 | F17: 1.6 | G17: 1.6 | H17: 1.94 | I17: 1.94 | J17: 1.94 | K17: 1 | L17: 1 | M17: 1
A18: 경비 할증 계수 | B18: 1.25 | C18: 1.071
A19: 내역,일위대가 품명,규격,단위 따로적용
A20: 내역단가 소수점처리 | B20: C | C20: 1
A21: 코드 | B21: 공종구분명 | C21: 원가비목코드
A22: 1 | B22: 작 업 부 산 물 | C22: A3
A23: 2 | B23: 운 반 비 | C23: C1
A24: 3 | B24: 관 급 자 재 비 | C24: DJ
A25: 4 | B25: 작업환경측정비 | C25: D3
A26: 5 | B26: 건설폐기물상차비
A27: 6 | B27: 건설폐기물처리비
A28: 7 | B28: 공통 가설 공사
A29: 8 | B29: 품 질 시 험 비
A30: 9 | B30: 완 제 품
