Workbook
Name _10_0\LA: [2]내역서!#REF!
Name _10_0\LA: [2]내역서!#REF!
Name _15_0\MID: [2]내역서!#REF!
Name _15_0\MID: [2]내역서!#REF!
Name _20_0\SM: [2]내역서!#REF!
Name _20_0\SM: [2]내역서!#REF!
Name _25_0ME: [2]내역서!#REF!
Name _25_0ME: [2]내역서!#REF!
Name _30_0ME: [2]내역서!#REF!
Name _30_0ME: [2]내역서!#REF!
Name _35_3_0Crite: #REF!
Name _35_3_0Crite: #REF!
Name _40_3_0Criteria: #REF!
Name _40_3_0Criteria: #REF!
Name _45G_0Extr: #REF!
Name _45G_0Extr: #REF!
Name _5_0: [3]예가표!#REF!
Name _5_0: [3]예가표!#REF!
Name _50G_0Extract: #REF!
Name _50G_0Extract: #REF!
Name RR: #REF!
Name RR: #REF!
Name 공내역: #REF!
Name 공내역: #REF!
Name 공종보기: [16]!공종보기
Name 기기: #REF!
Name 기기: #REF!
Name ㄴㅇㄹ: [3]예가표!#REF!
Name ㄴㅇㄹ: [3]예가표!#REF!
Name 노임집계: IF(#REF!=공종별내역서!직종4,"F",IF(#REF!=공종별내역서!직종5,"G",IF(#REF!=공종별내역서!직종6,"H",IF(#REF!=공종별내역서!직종7,"I",IF(#REF!=공종별내역서!직종8,"J","오류")))))
Name 노임집계: IF(#REF!=직종4,"F",IF(#REF!=직종5,"G",IF(#REF!=직종6,"H",IF(#REF!=직종7,"I",IF(#REF!=직종8,"J","오류")))))
Name 데이터: OFFSET(#REF!,,,COUNTA(#REF!)-1,9)
Name 데이터: OFFSET(#REF!,,,COUNTA(#REF!)-1,9)
Name ㅁㄴㄹ: [2]내역서!#REF!
Name ㅁㄴㄹ: [2]내역서!#REF!
Name 성명: OFFSET(#REF!,,,COUNTA(#REF!)-1)
Name 성명: OFFSET(#REF!,,,COUNTA(#REF!)-1)
Name 정정: #REF!
Name 정정: #REF!
Name 직종1: #REF!
Name 직종1: #REF!
Name 직종2: #REF!
Name 직종2: #REF!
Name 직종3: #REF!
Name 직종3: #REF!
Name 직종4: #REF!
Name 직종4: #REF!
Name 직종5: #REF!
Name 직종5: #REF!
Name 직종6: #REF!
Name 직종6: #REF!
Name 직종7: #REF!
Name 직종7: #REF!
Name 직종8: #REF!
Name 직종8: #REF!
Name 청천200: #REF!
Name 청천200: #REF!

Sheet 원가계산서
A1: 공 사 원 가 계 산 서
A3: 비 목 | D3: 금 액 | E3: 금 액 | F3: 구 성 비 | G3: 비 고
A4: 순 공 사 비 | B4: 재료비 | C4: 직접재료비 | E4: =[1]공종별집계표!N20 -> 331276.2
C5: 간접재료비
C6: [소 계 1] | E6: =SUM(E4:E5) -> 331276.2
B7: 노무비 | C7: 직접노무비 | E7: =[1]공종별집계표!P20 -> 609474
C8: 간접노무비 | E8: =INT(E7*0.108) -> 65823 | F8: 직접노무비×10.8%
C9: [소 계 2] | E9: =SUM(E7:E8) -> 675297
B10: 경 비 | C10: 운반비
C11: 산출경비 | E11: =[1]공종별집계표!R20 -> 4832886.4
C12: 산재보험료 | E12: =INT(E9*0.037) -> 24985 | F12: 노무비×3.7% | G12: 면허가 필요한 모든공사
C13: 고용보험료 | E13: =INT(E9*0.0087) -> 5875 | F13: 노무비×1.01% | G13: 면허가 필요한 모든공사
C14: 건강보험료 | F14: 직접노무비×1.7% | G14: 1개월 이상 공사
C15: 연금보험료 | F15: 직접노무비×2.49% | G15: 1개월 이상 공사
C16: 노인장기요양보험 | F16: 건강보험료×6.55% | G16: 1개월 이상 공사
C17: 퇴직공제부금비 | G17: 추정금액 3억원 이상 공사
C18: 안전관리비 | E18: =(E4+E7)*2.93% -> 27563.981 | F18: (재료비+직접노무비)×2.93%
C19: 기타경비 | E19: =INT((E6+E9)*0.047) -> 47308 | F19: (재료비+노무비)×4.5%
C20: 환경보전비 | E20: 0 | F20: (재료비+직접노무비+산출경비)×0.3%
C21: [소 계 3] | E21: =SUM(E10:E20) -> 4938618.4
A22: 계[1+2+3] | E22: =INT(E6+E9+E21) -> 5945191
A23: 일반관리비 | E23: =INT((E6+E9+E21)*0.06) -> 356711 | F23: (재료비+노무비+경비)×5%
A24: 이윤 | E24: =INT((E9+E21+E23)*0.11) -> 656768 | F24: (노무비+경비+일반관리비)×7% | I24: 0.1063583
A25: 공급가액 | E25: =E22+E23+E24 -> 6958670 | G25: 만원단위절삭
A26: 부가세 | E26: =E25*0.1 -> 695867 | F26: 공급가액×10%
A27: 공사금액 | E27: =ROUNDDOWN(E25+E26,-1) -> 7654530

Sheet 공종별내역서
A2: 품 명 | B2: 규 격 | C2: 단위 | D2: 수량 | E2: 재 료 비 | G2: 노 무 비 | I2: 경 비 | K2: 합 계 | M2: 재 료 비 | O2: 노 무 비 | Q2: 경 비 | S2: 합 계 | U2: 비 고 | V2: 품목코드 | W2: 변수 | X2: 설정 | Y2: 공종코드 | Z2: 일위 | AA2: 단산 | AB2: 자재 | AC2: 손료적용 | AD2: 손료저장 | AE2: 적용율 | AF2: JUK1 | AG2: JUK2 | AH2: JUK3 | AI2: JUK4 | AJ2: JUK5 | AK2: JUK6 | AL2: JUK7 | AM2: JUK8 | AN2: JUK9 | AO2: JUK10 | AP2: JUK11 | AQ2: JUK12 | AR2: JUK13 | AS2: JUK14 | AT2: JUK15 | AU2: JUK16 | AV2: JUK17 | AW2: JUK18 | AX2: JUK19 | AY2: JUK20 | AZ2: 자재구분 | BA2: 공종구분 | BB2: 공종레벨 | BC2: 공종+자재 | BD2: 고유번호
E3: 단 가 | F3: 금 액 | G3: 단 가 | H3: 금 액 | I3: 단 가 | J3: 금 액 | K3: 단 가 | L3: 금 액 | M3: 단 가 | N3: 금 액 | O3: 단 가 | P3: 금 액 | Q3: 단 가 | R3: 금 액 | S3: 단 가 | T3: 금 액
A4: 장비대여 | B4: 스카이/크레인 | C4: 대 | D4: 7 | M4: =TRUNC([1]일위대가목록!E4,0) -> 0 | N4: =TRUNC(M4*D4,0) -> 0 | O4: =TRUNC([1]일위대가목록!F4,0) -> 4938 | P4: =TRUNC(O4*D4,0) -> 34566 | Q4: =TRUNC([1]일위대가목록!G4,0) -> 0 | R4: =TRUNC(Q4*D4,0) -> 0 | S4: =TRUNC(M4+O4+Q4,0) -> 4938 | T4: =TRUNC(N4+P4+R4,0) -> 34566 | V4: 5E39A488D1687C3D83B6DFE55EC01C | Y4: 0104 | Z4: T | AA4: F | AB4: F | BC4: 01045E39A488D1687C3D83B6DFE55EC01C | BD4: 65
A5: 작업자 | B5: 남자 | C5: 인 | D5: 8 | M5: =TRUNC([1]단가대비표!O5,0) -> 0 | N5: =TRUNC(M5*D5,0) -> 0 | O5: =TRUNC([1]단가대비표!P5,0) -> 0 | P5: =TRUNC(O5*D5,0) -> 0 | Q5: =TRUNC([1]단가대비표!V5,0) -> 550000 | R5: =TRUNC(Q5*D5,0) -> 4400000 | S5: =TRUNC(M5+O5+Q5,0) -> 550000 | T5: =TRUNC(N5+P5+R5,0) -> 4400000 | V5: 591C344181652DE18A6226655C542FDC259C36 | Y5: 0104 | Z5: F | AA5: F | AB5: T | BC5: 0104591C344181652DE18A6226655C542FDC259C36 | BD5: 35
A6: 작업자 | B6: 여자 | C6: 인 | D6: 8 | M6: =[1]일위대가목록!E6 -> 9063.9 | N6: =M6*D6 -> 72511.2 | O6: =[1]일위대가목록!F6 -> 44299 | P6: =O6*D6 -> 354392 | Q6: =[1]일위대가목록!G6 -> 54110.8 | R6: =Q6*D6 -> 432886.4 | S6: =TRUNC(M6+O6+Q6,0) -> 107473 | T6: =TRUNC(N6+P6+R6,0) -> 859789
A7: 로-프작업자 | B7: 밧줄공 | C7: 인 | D7: 8 | M7: =[1]일위대가목록!E5 -> 31695 | N7: =TRUNC(M7*D7,0) -> 253560 | O7: =[1]일위대가목록!F5 -> 26977.6 | P7: =TRUNC(O7*D7,0) -> 215820 | Q7: =[1]일위대가목록!G5 -> 0 | R7: =TRUNC(Q7*D7,0) -> 0 | S7: =[1]일위대가목록!H5 -> 58672.6 | T7: =TRUNC(N7+P7+R7,0) -> 469380 | V7: 5F25145C3169D3CC8AC4190B5AC9F69878B73C | Y7: 0104 | Z7: F | AA7: F | AB7: T | BC7: 01045F25145C3169D3CC8AC4190B5AC9F69878B73C | BD7: 57
A8: 소모자재 | B8: 약품 외 | C8: 식 | D8: 1 | M8: =[1]일위대가목록!E7 -> 5205.6 | N8: =TRUNC(M8*D8,0) -> 5205 | O8: =[1]일위대가목록!F7 -> 4696 | P8: =TRUNC(O8*D8,0) -> 4696 | Q8: =[1]일위대가목록!G7 -> 0 | R8: =TRUNC(Q8*D8,0) -> 0 | S8: =[1]일위대가목록!H7 -> 9901.6 | T8: =TRUNC(N8+P8+R8,0) -> 9901
A9: 유리청소 | C9: 식 | D9: 1
A20: [ 합 계 ] | F20: =SUM(F4:F19) -> 0 | H20: =SUM(H4:H19) -> 0 | J20: =SUM(J4:J19) -> 0 | L20: =SUM(L4:L19) -> 0 | N20: =SUM(N4:N19) -> 331276.2 | P20: =SUM(P4:P19) -> 609474 | R20: =SUM(R4:R19) -> 4832886.4 | T20: =SUM(T4:T19) -> 5773636 | V20: TOTAL
