Workbook
Name DUCT: BlankMacro1
Name 실행예산: BlankMacro1
Name 실행예산: BlankMacro1
Name 템플리트모듈1: BlankMacro1
Name 템플리트모듈1: BlankMacro1
Name 템플리트모듈2: BlankMacro1
Name 템플리트모듈2: BlankMacro1
Name 템플리트모듈3: BlankMacro1
Name 템플리트모듈3: BlankMacro1
Name 템플리트모듈4: BlankMacro1
Name 템플리트모듈4: BlankMacro1
Name 템플리트모듈5: BlankMacro1
Name 템플리트모듈5: BlankMacro1
Name 템플리트모듈6: BlankMacro1
Name 템플리트모듈6: BlankMacro1

Sheet 원가계산서
A2: 견적 내역서 총괄
A3: =내역서!A1 -> [공사명] 전자정보원 POWER 전기공사
A4: 항 목 | B4: 기 준 | C4: 금액 | E4: 비 고
A6: 자 재 비 | C6: =내역서갑지!F24 -> 0
A7: 노 무 비 | C7: =내역서갑지!H24 -> 0
A8: 경 비 | C8: =내역서갑지!J24 -> 0
A9: 공 구 손 료
A10: 청 소 인 원 인 건 비
A11: 고 용 보 험 료 | B11: 노무비의1.01% | C11: =INT(C7*1.01%) -> 0
A12: 시 운 전 인 건 비
A13: 운 반 비
A15: 장 비 사 용 료
A16: 강 관 틀 비 계 매 기
A17: 산 재 보 험 료 | B17: 노무비의 3.56% | C17: =SUM(C7)*0.0356 -> 0
A18: 안 전 관 리 비
A19: 일 반 관 리 비
A20: 공 과 잡 비
A21: 합 계 | C21: =SUM(C6:C20) -> 0 | E21: ( 자리수 조정금액 )

Sheet 내역서
A1: [공사명] 전자정보원 POWER 전기공사 | G1: `
A2: 명 칭 | B2: 규 격 | C2: 단위 | D2: 수량 | E2: 자 재 비 | G2: 노 무 비 | I2: 경 비 | K2: 계 | L2: 비 고
E3: 단 가 | F3: 금 액 | G3: 단 가 | H3: 금액 | I3: 단 가 | J3: 금액
A4: 1.POWER 설치 전기공사
A5: CABLE & WIRE | B5: F-CV 95SQ*1C | C5: MT | D5: 630
A6: CABLE & WIRE | B6: F-GV 50SQ | C6: MT | D6: 210
A7: 콤프레샤 전기 | B7: F-CV 10SQ*4C | C7: MT | D7: 50
A8: 동관단자 | B8: 95SQ 1HOLE | C8: 대 | D8: 8
A9: 동관단자 | B9: 50SQ 1HOLE | C9: 대 | D9: 9
A10: 장비비 | B10: 랜탈 | C10: 대 | D10: 5
A11: 공사잡자재비 | B11: 자재비의10% | C11: 식 | D11: 1
A12: 인건비 | B12: 내선전공 | C12: MD | D12: 5
B13: 저압케이블공 | C13: MD | D13: 10
B14: 신호수 | C14: MD | D14: 2
F16: =SUM(D16*E16) -> 0
F17: =SUM(D17*E17) -> 0
F18: =SUM(D18*E18) -> 0
F19: =SUM(D19*E19) -> 0
F20: =SUM(D20*E20) -> 0
A23: 소 계 | F23: =SUM(F5:F17) -> 0 | H23: =SUM(H12:H22) -> 0 | J23: =SUM(J10:J22) -> 0 | K23: =SUM(K4:K22) -> 0

Sheet 내역서갑지
A2: =내역서!A1 -> [공사명] 전자정보원 POWER 전기공사
A3: 명 칭 | B3: 규 격 | C3: 단위 | D3: 수량 | E3: 재 료 비 | G3: 노 무 비 | I3: 경 비 | K3: 계 | L3: 비 고
E4: 단 가 | F4: 금 액 | G4: 단 가 | H4: 금액 | I4: 단 가 | J4: 금액
A5: =내역서!A4 -> 1.POWER 설치 전기공사 | C5: 식 | D5: 1 | E5: =내역서!F23 -> 0 | F5: =E5*D5 -> 0 | G5: =내역서!H23 -> 0 | H5: =G5*D5 -> 0 | I5: =내역서!J23 -> 0 | K5: =SUM(F5+H5+J5) -> 0
A24: 합 계 | F24: =SUM(F5:F23) -> 0 | H24: =SUM(H5:H23) -> 0 | J24: =SUM(J6:J23) -> 0 | K24: =SUM(K5:K23) -> 0
